{"text_format":"1","workbook":"xlsx","n_sheets":14,"sheets":["Plano","Dívida","Projeções","Parâmetros","Metas","MetasRPPS","Metas PREF "," Avaliação","Comparação"," Patrimônio"," Alienação","Renúncia","DOCC","Anexo Riscos"],"not_rendered":{"charts":0,"images":2,"macros":1,"external_links":0,"defined_names":8,"comments":0,"pivot_tables":0},"unopened":[],"bounds":{"document_bytes":16777216,"sheet_cells":100000,"rows_first":2000,"rows_last":500,"rows_between":2000,"halvings":0,"cell_chars":16384,"cell_head_chars":4096},"cells_cut":0,"cells_raw":0,"read":"whole","date_system":"1900"}

{"sheet":"Plano","index":0,"n_rows":66,"n_cols":6,"rows_kept":66,"cut":false,"hidden":false,"merged":[]}
["CÓDIGO","DESCRIÇÃO",2012,2013,2014,2015]
[null,null,"Arrecadado","Arrecadado","Arrecadado","Reestimado"]
["1.0.0.0.00.00.00.00","RECEITAS CORRENTES",{"$f":"C4+C5+C8+C13+C14+C15+C16+C17","v":47010371.969999999},{"$f":"D4+D5+D8+D13+D14+D15+D16+D17","v":53650655.460000001},{"$f":"E4+E5+E8+E13+E14+E15+E16+E17","v":58495029.010000005},{"$f":"F4+F5+F8+F13+F14+F15+F16+F17","v":55343210.829999998}]
["1.1.0.0.00.00.00.00","RECEITA TRIBUTARIA",5235067.32,7275718.5199999996,8049055.4699999997,6932749.4100000001]
["1.2.0.0.00.00.00.00","RECEITA DE CONTRIBUICOES",{"$f":"C6+C7","v":1035417.56},{"$f":"D6+D7","v":1181586.49},{"$f":"E6+E7","v":1616157.76},{"$f":"F6+F7","v":1087293.6100000001}]
["1.2.0.0.00.00.00.00","Receitas de Contribuições -   P M",0,0,0,0]
["1.2.0.0.0.0.0.0.0.0.0","Receita de Contribuições  -  R P P S  (Fonte 0050)",1035417.56,1181586.49,1616157.76,1087293.6100000001]
["1.3.0.0.00.00.00.00","RECEITA PATRIMONIAL",{"$f":"C9+C12","v":3197642.6900000004},{"$f":"D9+D12","v":2305219.94},{"$f":"E9+E12","v":4865789.2600000007},{"$f":"F9+F12","v":4268874.33}]
["1.3.2.0.00.00.00.00","Rendimentos de Aplicações Financeiras",{"$f":"C10+C11","v":3040802.93},{"$f":"D10+D11","v":2279906.1800000002},{"$f":"E10+E11","v":4669501.32},{"$f":"F10+F11","v":4127011.15}]
["1.3.2.0.00.00.00.00","Rendimentos de Aplicações - PM",282866.94,333324.42,3097271.74,759791.52]
["1.3.2.0.00.00.00.00","Rendimentos de Aplicações - RPPS (Fonte 0050)",2757935.99,1946581.76,1572229.58,3367219.63]
["1.3.9.0.00.00.00.00","Outras Receitas Patrimoniais",156839.76,25313.759999999998,196287.94,141863.18]
["1.4.0.0.00.00.00.00","RECEITA AGROPECUARIA",0,0,0,0]
["1.5.0.0.00.00.00.00","RECEITA INDUSTRIAL",0,0,0,0]
["1.6.0.0.00.00.00.00","RECEITA DE SERVICOS",613537.43999999994,381240.16,429079.13,290417.57]
["1.7.0.0.00.00.00.00","TRANSFERENCIAS CORRENTES",36008172.600000001,41596360.350000001,42771862.630000003,{"$f":"40458198/11*11.5","v":42297207}]
["1.9.0.0.00.00.00.00","OUTRAS RECEITAS CORRENTES",{"$f":"C18+C19","v":920534.36},{"$f":"D18+D19","v":910530},{"$f":"E18+E19","v":763084.76},{"$f":"F18+F19","v":466668.90999999642}]
["1.9.0.0.00.00.00.00","Outras Receitas Correntes -  P M",920534.36,910530,763084.76,466668.90999999642]
["1.9.0.0.00.00.00.00","Outras Receitas Correntes - R P P S (Fonte 0050)",0,0,0,0]
["2.0.0.0.00.00.00.00","RECEITAS DE CAPITAL",{"$f":"C21+C22+C23+C24+C25","v":3298306.78},{"$f":"D21+D22+D23+D24+D25","v":2996769.6900000004},{"$f":"E21+E22+E23+E24+E25","v":5805408.0800000001},{"$f":"F21+F22+F23+F24+F25","v":4691439.83}]
["2.1.0.0.00.00.00.00","OPERACOES DE CREDITO",0,0,0,0]
["2.2.0.0.00.00.00.00","ALIENACAO DE BENS",6111.94,1279.47,152720,0]
["2.3.0.0.00.00.00.00","AMORTIZACAO DE EMPRESTIMOS",0,0,0,0]
["2.4.0.0.00.00.00.00","TRANSFERENCIAS DE CAPITAL",3292194.84,2995490.22,5652688.0800000001,4691439.83]
["2.5.0.0.00.00.00.00","OUTRAS RECEITAS DE CAPITAL",0,0,0,0]
["7.2.1.0.00.00.00.00","Receitas Intra Orçamentárias - RPPS (Fonte 0050)",2055228.92,2541020.9,3274408.32,2255488.2400000002]
["9.0.0.0.00.00.00.00","( - ) DEDUÇÕES DA RECEITA",-4682542.1900000004,-6277765.6500000004,-6665769.5700000003,-5881163.4000000004]
[]
[null,"TOTAL DA RECEITA",{"$f":"C3+C20+C26+C27","v":47681365.480000004},{"$f":"D3+D20+D26+D27","v":52910680.399999999},{"$f":"E3+E20+E26+E27","v":60909075.839999996},{"$f":"F3+F20+F27+F26","v":56408975.5}]
[]
["CÓDIGO","DESCRIÇÃO",2012,2013,2014,2015]
[null,null,"Liquidado","Liquidado","Liquidado","Reestimado"]
["3.0.00.00.00.00.00","DESPESAS CORRENTES",{"$f":"C34+C37+C40","v":35258314.620000005},{"$f":"D34+D37+D40","v":43417992.710000001},{"$f":"E34+E37+E40","v":45542544.090000004},{"$f":"F34+F37+F40","v":46308356.870000005}]
["3.1.00.00.00.00.00","PESSOAL E ENCARGOS SOCIAIS",{"$f":"C35+C36","v":20969384.490000002},{"$f":"D35+D36","v":26516003.68},{"$f":"E35+E36","v":27460882.829999998},{"$f":"F35+F36","v":29483148}]
["3.1.00.00.00.00.00","Pessoal  Próprio",19444887.600000001,24516809.34,{"$f":"26480882.83-E36+980000","v":25403331.379999999},26786586]
["3.1.00.00.00.00.00","Pessoal  do  R P P S  (Fonte 0050)",1524496.89,1999194.34,2057551.45,2696562]
["3.2.00.00.00.00.00","JUROS E ENCARGOS DA DÍVIDA",{"$f":"C38+C39","v":0},{"$f":"D38+D39","v":0},{"$f":"E38+E39","v":39508.44},{"$f":"F38+F39","v":0}]
["3.2.00.00.00.00.00","Juros e Encargos da Dívida",0,0,39508.44,0]
["3.2.00.00.00.00.00","Juros e encargos da Dívida RPPS  (Fonte 0050)",0,0,0,0]
["3.3.00.00.00.00.00","OUTRAS DESPESAS CORRENTES",{"$f":"C41+C42","v":14288930.130000001},{"$f":"D41+D42","v":16901989.030000001},{"$f":"E41+E42","v":18042152.82},{"$f":"F41+F42","v":16825208.870000001}]
["3.3.00.00.00.00.00","Outras Despesas Correntes",{"$f":"13969782.8+302758.51","v":14272541.310000001},{"$f":"16901989.03-D42","v":16885947.850000001},18018388.93,16813484.949999999]
["3.3.00.00.00.00.00","Outras Despesas Corrente  RPPS (Fonte 0050)",16388.82,16041.18,23763.89,11723.92]
["4.0.00.00.00.00.00","DESPESAS DE CAPITAL",{"$f":"C44+C47+C50","v":2965650.88},{"$f":"D44+D47+D50","v":2199533.75},{"$f":"E44+E47+E50","v":7108620.9899999993},{"$f":"F44+F47","v":6060716}]
["4.4.00.00.00.00.00","INVESTIMENTOS",{"$f":"C45+C46","v":2965650.88},{"$f":"D45+D46","v":2199533.75},{"$f":"E45+E46","v":7020562.5999999996},{"$f":"F45+F46","v":6060716}]
["4.4.00.00.00.00.00","Investimentos",2962232.88,{"$f":"2199533.75-D46","v":2197813.75},7020562.5999999996,6059126]
["4.4.00.00.00.00.00","Invetimentos  RPPS  (Fonte 0050)",3418,1720,0,1590]
["4.5.00.00.00.00.00","INVERSÕES FINANCEIRAS",{"$f":"C48+C49","v":0},{"$f":"D48+D49","v":0},{"$f":"E48+E49","v":0},{"$f":"F48+F49","v":0}]
["4.5.90.66.00.00.00","Concessão de Empréstimos e Financiamentos",0,0,0,0]
["4.5.90.99.00.00.00","Outras inversões Financeiras",0,0,0,0]
["4.6.00.00.00.00.00","AMORTIZAÇÃO DA DÍVIDA PÚBLICA",0,0,88058.39,0]
[]
["9.0.00.00.00.00.00","RESERVA DE CONTINGÊNCIA",null,null,null,0]
["7.7.99.99.99.99.99","RESERVA DE CONTINGÊNCIA DO RPPS",null,null,null,{"$f":"F7+F11+F19+F26-F36-F42-F46","v":4000125.5600000005}]
[]
[null,"TOTAL DA DESPESA",{"$f":"C33+C43","v":38223965.500000007},{"$f":"D33+D43","v":45617526.460000001},{"$f":"E33+E43","v":52651165.080000006},{"$f":"F33+F43+F52+F53","v":56369198.430000007}]
[]
[null,"PREVISÕES DA LEI DE ORÇAMENTO",2012,2013,2014,2015]
[null,"Receita Prevista (já deduzido o FUNDEB)",37758200.810000002,46770482.289999999,74864268.730000004,80789571.829999998]
["1.3.2.0.00.00.00.00","Rendimento de Aplicações Financeiras",1121110.8600000001,1851481.59,0,367508.62]
["2.1.0.0.00.00.00.00","Receita de Operações de Crédito",0,0,0,4917981.8499999996]
["2.2.0.0.00.00.00.00","Receita de Alienação de Bens",2624,5826.56,5000,0]
["2.3.0.0.00.00.00.00","Receita de Amort.de Empréstimos Concedidos",0,0,0,0]
[null,"Despesa Fixada (cfe lei de orçamento)",{"$f":"C58","v":37758200.810000002},{"$f":"D58","v":46770482.289999999},{"$f":"E58","v":74864268.730000004},{"$f":"F58","v":80789571.829999998}]
["3.2.00.00.00.00.00","Juros e Encargos da Dívida",0,0,0,248482.17]
["4.6.00.00.00.00.00","Amortização da Dívida",0,0,0,0]
["4.5.90.66.00.00.00","Concessão de Empréstimos",0,0,0,0]

{"sheet":"Dívida","index":1,"n_rows":20,"n_cols":7,"rows_kept":20,"cut":false,"hidden":false,"merged":[[14,0,15,0],[0,0,0,9],[1,0,1,9],[2,0,2,9],[4,0,5,0]]}
[{"$f":"Parâmetros!A7","v":"Município de Jaguarão"}]
["LEI DE DIRETRIZES ORÇAMENTÁRIAS PARA 2016"]
["TABELA 02 - Demonstraitvo da Evolução da Dívida e Resultado Nominal"]
[]
["Exercício",2013,2014,2015,2016,2017,2018]
[null,"Saldo","Saldo","Reestimativa","Previsão","Previsão","Previsão"]
[" (1) Dívida Consolidada ",1905151.12,619862.9,0,{"$f":"D7+Projeções!G27-Projeções!G45-Projeções!G57","v":9442464.5},{"$f":"E7+Projeções!H27-Projeções!H45-Projeções!H57","v":13412720.560000001},{"$f":"F7+Projeções!I27-Projeções!I45-Projeções!I57","v":12021604.700000001}]
["(2)  Disponibilidades Financeiras (Líquidas)",10970310.84,13875933.9,15274028.41,{"$f":"(B8+C8+D8)/3","v":13373424.383333335},{"$f":"(C8+D8+E8)/3","v":14174462.231111111},{"$f":"(D8+E8+F8)/3","v":14273971.674814815}]
["(3) Dívida Consolidada Líquida",{"$f":"B7-B8","v":-9065159.7199999988},-13256071,-15274028.41,-3930959.8833333347,-761741.6711111106,-2252366.9748148136]
["(4) Passivos Reconhecidos",1098895.69,11729103.869999999,12911133.310000001,{"$f":"D10*106%","v":13685801.308600001},{"$f":"E10*106%","v":14506949.387116002},{"$f":"F10*106%","v":15377366.350342963}]
["(5) Dívida Fiscal Líquida",{"$f":"B9-B10","v":-10164055.409999998},-24985174.869999997,-28185161.719999999,-17616761.191933334,-15268691.058227113,-17629733.325157776]
["(6) Resultado Nominal",null,{"$f":"C11-B11","v":-14821119.459999999},{"$f":"D11-C11","v":-3199986.8500000015},{"$f":"E11-D11","v":10568400.528066665},{"$f":"F11-E11","v":2348070.1337062214},{"$f":"G11-F11","v":-2361042.266930664}]
[]
["Cronograma Anual de Operações Realizadas e do Serviço da Dívida",null,null,null,null,null,"Valores em R$"]
["Operações de Crédito / Pagamentos ",2013,2014,2015,2016,2017,2018]
[null,"Realizado","Realizado","Reestimativa","Previsão","Previsão","Previsão"]
["2.1 - Operações de Crédito",{"$f":"Plano!D21","v":0},{"$f":"Plano!E21","v":0},{"$f":"Plano!F21","v":0},{"$f":"5600000+9900000-D17-F17","v":10550000},4950000,0]
["2.2 Encargos ",{"$f":"Plano!D37","v":0},{"$f":"Plano!E37","v":39508.44},{"$f":"Plano!F37","v":0},{"$f":"108000*12","v":1296000},{"$f":"108000*12","v":1296000},{"$f":"108000*12","v":1296000}]
["2.3 Amortizações",{"$f":"Plano!D50","v":0},{"$f":"Plano!E50","v":88058.39},{"$f":"Plano!F50","v":0},{"$f":"(E17+F17+D17)/240*5","v":322916.66666666669},{"$f":"(E17+F17+D17)/240*12","v":775000},{"$f":"F19","v":775000}]
[" 2.2.3 Dívida Mobiliária"]

{"sheet":"Projeções","index":2,"n_rows":84,"n_cols":9,"rows_kept":84,"cut":false,"hidden":false,"merged":[]}
[{"$f":"Parâmetros!A7","v":"Município de Jaguarão"}]
["MEMÓRIA DE CÁLCULO DAS RECEITAS E DESPESAS - LOA PARA  2016"]
[]
[]
[null,null,null,null,null,null,null,null,"Valores em R$ 1,00"]
["CÓDIGOS","CONTAS","REALIZADO","REALIZADO","REALIZADO","REESTIMADO","PROJETADO","PROJETADO","PROJETADO"]
[null,"CONSOLIDADAS ANUAIS",2012,2013,2014,2015,2016,2017,2018]
[]
["1.0.0.0.00.00.00.00","RECEITAS CORRENTES",{"$f":"Plano!C3","v":47010371.969999999},{"$f":"Plano!D3","v":53650655.460000001},{"$f":"Plano!E3","v":58495029.010000005},{"$f":"Plano!F3","v":55343210.829999998},66081853,{"$f":"IF(H23=0,0,(H10+H11+H14+H19+H20+H21+H22+H23))","v":69539884.302458405},{"$f":"IF(I23=0,0,(I10+I11+I14+I19+I20+I21+I22+I23))","v":73440355.622215137}]
["1.1.0.0.00.00.00.00","RECEITA TRIBUTARIA",{"$f":"Plano!C4","v":5235067.32},{"$f":"Plano!D4","v":7275718.5199999996},{"$f":"Plano!E4","v":8049055.4699999997},{"$f":"Plano!F4","v":6932749.4100000001},8931717.3300000001,{"$f":"IF(G10=0,0,(G10*(1+Parâmetros!F11)*(1+Parâmetros!F12)*(1+Parâmetros!F15)))","v":10333304.909182183},{"$f":"IF(H10=0,0,(H10*(1+Parâmetros!G11)*(1+Parâmetros!G12)*(1+Parâmetros!G15)))","v":12097690.953358568}]
["1.2.0.0.00.00.00.00","RECEITA DE CONTRIBUICOES",{"$f":"Plano!C5","v":1035417.56},{"$f":"Plano!D5","v":1181586.49},{"$f":"Plano!E5","v":1616157.76},{"$f":"Plano!F5","v":1087293.6100000001},1619793.96,{"$f":"H12+H13","v":1734151.4135759999},{"$f":"I12+I13","v":1865773.5058664184}]
["1.2.0.0.00.00.00.00","Receitas de Contribuições -   P M",{"$f":"Plano!C6","v":0},{"$f":"Plano!D6","v":0},{"$f":"Plano!E6","v":0},{"$f":"Plano!F6","v":0},0,{"$f":"G12*(1+Parâmetros!F11)*(1+Parâmetros!F12)","v":0},{"$f":"H12*(1+Parâmetros!G11)*(1+Parâmetros!G12)","v":0}]
["1.2.0.0.0.0.0.0.0.0.0","Receita de Contribuições  -  R P P S  (Fonte 0050)",{"$f":"Plano!C7","v":1035417.56},{"$f":"Plano!D7","v":1181586.49},{"$f":"Plano!E7","v":1616157.76},{"$f":"Plano!F7","v":1087293.6100000001},1619793.96,{"$f":"G13*(1+Parâmetros!F11)*(1+Parâmetros!F17)","v":1734151.4135759999},{"$f":"H13*(1+Parâmetros!G11)*(1+Parâmetros!G17)","v":1865773.5058664184}]
["1.3.0.0.00.00.00.00","RECEITA PATRIMONIAL",{"$f":"Plano!C8","v":3197642.6900000004},{"$f":"Plano!D8","v":2305219.94},{"$f":"Plano!E8","v":4865789.2600000007},{"$f":"Plano!F8","v":4268874.33},4977742.24,{"$f":"H15+H18","v":5278842.2426959993},{"$f":"I15+I18","v":5598180.1896154583}]
["1.3.2.0.00.00.00.00","Rendimentos de Aplicações Financeiras",{"$f":"Plano!C9","v":3040802.93},{"$f":"Plano!D9","v":2279906.1800000002},{"$f":"Plano!E9","v":4669501.32},{"$f":"Plano!F9","v":4127011.15},4977742.24,{"$f":"H16+H17","v":5032859.9447999997},{"$f":"I16+I17","v":5334831.5414880002}]
["1.3.2.0.00.00.00.00","Rendimentos de Aplicações - PM",{"$f":"Plano!C10","v":282866.94},{"$f":"Plano!D10","v":333324.42},{"$f":"Plano!E10","v":3097271.74},{"$f":"Plano!F10","v":759791.52},247981.08,{"$f":"G16*(1+Parâmetros!F11)","v":262859.9448},{"$f":"H16*(1+Parâmetros!G11)","v":278631.54148800002}]
["1.3.2.0.00.00.00.00","Rendimentos de Aplicações - RPPS (Fonte 0050)",{"$f":"Plano!C11","v":2757935.99},{"$f":"Plano!D11","v":1946581.76},{"$f":"Plano!E11","v":1572229.58},{"$f":"Plano!F11","v":3367219.63},4500000,{"$f":"G17*(1+Parâmetros!F11)","v":4770000},{"$f":"H17*(1+Parâmetros!G11)","v":5056200}]
["1.3.9.0.00.00.00.00","Outras Receitas Patrimoniais",{"$f":"Plano!C12","v":156839.76},{"$f":"Plano!D12","v":25313.759999999998},{"$f":"Plano!E12","v":196287.94},{"$f":"Plano!F12","v":141863.18},229761.16,{"$f":"G18*(1+Parâmetros!F11)*(1+Parâmetros!F12)","v":245982.29789600003},{"$f":"H18*(1+Parâmetros!G11)*(1+Parâmetros!G12)","v":263348.64812745765}]
["1.4.0.0.00.00.00.00","RECEITA AGROPECUARIA",{"$f":"Plano!C13","v":0},{"$f":"Plano!D13","v":0},{"$f":"Plano!E13","v":0},{"$f":"Plano!F13","v":0},0,{"$f":"G19*(1+Parâmetros!F11)*(1+Parâmetros!F12)","v":0},{"$f":"H19*(1+Parâmetros!G11)*(1+Parâmetros!G12)","v":0}]
["1.5.0.0.00.00.00.00","RECEITA INDUSTRIAL",{"$f":"Plano!C14","v":0},{"$f":"Plano!D14","v":0},{"$f":"Plano!E14","v":0},{"$f":"Plano!F14","v":0},0,{"$f":"G20*(1+Parâmetros!F11)*(1+Parâmetros!F12)","v":0},{"$f":"H20*(1+Parâmetros!G11)*(1+Parâmetros!G12)","v":0}]
["1.6.0.0.00.00.00.00","RECEITA DE SERVICOS",{"$f":"Plano!C15","v":613537.43999999994},{"$f":"Plano!D15","v":381240.16},{"$f":"Plano!E15","v":429079.13},{"$f":"Plano!F15","v":290417.57},204899.27,{"$f":"G21*(1+Parâmetros!F11)*(1+Parâmetros!F12)","v":219365.15846199999},{"$f":"H21*(1+Parâmetros!G11)*(1+Parâmetros!G12)","v":234852.33864941719}]
["1.7.0.0.00.00.00.00","TRANSFERENCIAS CORRENTES",{"$f":"Plano!C16","v":36008172.600000001},{"$f":"Plano!D16","v":41596360.350000001},{"$f":"Plano!E16","v":42771862.630000003},{"$f":"Plano!F16","v":42297207},48964743.960000001,{"$f":"IF(G22=0,0,(G22*(1+Parâmetros!F11)*(1+Parâmetros!F12)*(1+Parâmetros!F16)))","v":50493627.627998233},{"$f":"IF(H22=0,0,(H22*(1+Parâmetros!G11)*(1+Parâmetros!G12)*(1+Parâmetros!G16)))","v":52058735.82187286}]
["1.9.0.0.00.00.00.00","OUTRAS RECEITAS CORRENTES",{"$f":"Plano!C17","v":920534.36},{"$f":"Plano!D17","v":910530},{"$f":"Plano!E17","v":763084.76},{"$f":"Plano!F17","v":466668.90999999642},1382956.24,{"$f":"H24+H25","v":1480592.9505440001},{"$f":"I24+I25","v":1585122.8128524066}]
["1.9.0.0.00.00.00.00","Outras Receitas Correntes -  P M",{"$f":"Plano!C18","v":920534.36},{"$f":"Plano!D18","v":910530},{"$f":"Plano!E18","v":763084.76},{"$f":"Plano!F18","v":466668.90999999642},1354156.24,{"$f":"G24*(1+Parâmetros!F11)*(1+Parâmetros!F12)","v":1449759.6705440001},{"$f":"H24*(1+Parâmetros!G11)*(1+Parâmetros!G12)","v":1552112.7032844066}]
["1.9.0.0.00.00.00.00","Outras Receitas Correntes - R P P S (Fonte 0050)",{"$f":"Plano!C19","v":0},{"$f":"Plano!D19","v":0},{"$f":"Plano!E19","v":0},{"$f":"Plano!F19","v":0},28800,{"$f":"G25*(1+Parâmetros!F11)*(1+Parâmetros!F12)","v":30833.279999999999},{"$f":"H25*(1+Parâmetros!G11)*(1+Parâmetros!G12)","v":33010.109568}]
["2.0.0.0.00.00.00.00","RECEITAS DE CAPITAL",{"$f":"Plano!C20","v":3298306.78},{"$f":"Plano!D20","v":2996769.6900000004},{"$f":"Plano!E20","v":5805408.0800000001},{"$f":"Plano!F20","v":4691439.83},24147883.920000002,{"$f":"H27+H28+H29+H30+H31","v":11144573.194},{"$f":"I27+I28+I29+I30+I31","v":6631910.0614964003}]
["2.1.0.0.00.00.00.00","OPERACOES DE CREDITO",{"$f":"Plano!C21","v":0},{"$f":"Plano!D21","v":0},{"$f":"Plano!E21","v":0},{"$f":"Plano!F21","v":0},9806830.9199999999,{"$f":"Dívida!F17","v":4950000},{"$f":"Dívida!G17","v":0}]
["2.2.0.0.00.00.00.00","ALIENACAO DE BENS",{"$f":"Plano!C22","v":6111.94},{"$f":"Plano!D22","v":1279.47},{"$f":"Plano!E22","v":152720},{"$f":"Plano!F22","v":0},0,{"$f":"G28*(1+Parâmetros!F11)*(1+Parâmetros!F12)","v":0},{"$f":"H28*(1+Parâmetros!G11)*(1+Parâmetros!G12)","v":0}]
["2.3.0.0.00.00.00.00","AMORTIZACAO DE EMPRESTIMOS",{"$f":"Plano!C23","v":0},{"$f":"Plano!D23","v":0},{"$f":"Plano!E23","v":0},{"$f":"Plano!F23","v":0},0,{"$f":"G29*(1+Parâmetros!F11)*(1+Parâmetros!F12)","v":0},{"$f":"H29*(1+Parâmetros!G11)*(1+Parâmetros!G12)","v":0}]
["2.4.0.0.00.00.00.00","TRANSFERENCIAS DE CAPITAL",{"$f":"Plano!C24","v":3292194.84},{"$f":"Plano!D24","v":2995490.22},{"$f":"Plano!E24","v":5652688.0800000001},{"$f":"Plano!F24","v":4691439.83},14341053,{"$f":"AVERAGE(C30:G30)","v":6194573.1940000001},{"$f":"H30*(1+Parâmetros!G11)*(1+Parâmetros!G12)","v":6631910.0614964003}]
["2.5.0.0.00.00.00.00","OUTRAS RECEITAS DE CAPITAL",{"$f":"Plano!C25","v":0},{"$f":"Plano!D25","v":0},{"$f":"Plano!E25","v":0},{"$f":"Plano!F25","v":0},0,{"$f":"G31*(1+Parâmetros!F11)*(1+Parâmetros!F12)","v":0},{"$f":"H31*(1+Parâmetros!G11)*(1+Parâmetros!G12)","v":0}]
["7.2.1.0.00.00.00.00","Receitas Intra Orçamentárias - RPPS (Fonte 0050)",{"$f":"Plano!C26","v":2055228.92},{"$f":"Plano!D26","v":2541020.9},{"$f":"Plano!E26","v":3274408.32},{"$f":"Plano!F26","v":2255488.2400000002},6399640.0800000001,{"$f":"G32*(1+Parâmetros!F11)*(1+Parâmetros!F17)","v":6851454.669648001},{"$f":"H32*(1+Parâmetros!G11)*(1+Parâmetros!G17)","v":7371480.0790742841}]
["9.0.0.0.00.00.00.00","DEDUÇÕES DA RECEITA",{"$f":"Plano!C27","v":-4682542.1900000004},{"$f":"Plano!D27","v":-6277765.6500000004},{"$f":"Plano!E27","v":-6665769.5700000003},{"$f":"Plano!F27","v":-5881163.4000000004},-6940468.3799999999,{"$f":"G33*(1+Parâmetros!F11)*(1+Parâmetros!F12)","v":-7430465.4476280008},{"$f":"H33*(1+Parâmetros!G11)*(1+Parâmetros!G12)","v":-7955056.3082305379}]
[null,null,{"$f":"Plano!C28","v":0},{"$f":"Plano!D28","v":0},{"$f":"Plano!E28","v":0},{"$f":"Plano!F28","v":0}]
[null,"TOTAL DA RECEITA",{"$f":"Plano!C29","v":47681365.480000004},{"$f":"Plano!D29","v":52910680.399999999},{"$f":"Plano!E29","v":60909075.839999996},{"$f":"Plano!F29","v":56408975.5},{"$f":"G9+G26+G32+G33","v":89688908.620000005},{"$f":"H9+H26+H32+H33","v":80105446.718478411},{"$f":"I9+I26+I32+I33","v":79488689.454555288}]
[]
[]
["CÓDIGOS","CONTAS","LIQUIDADO","LIQUIDADO","LIQUIDADO","REESTIMADO","PROJETADO","PROJETADO","PROJETADO"]
[null,"CONSOLIDADAS ANUAIS",2012,2013,2014,2015,2016,2017,2018]
["3.0.00.00.00.00.00","DESPESAS CORRENTES",{"$f":"Plano!C33","v":35258314.620000005},{"$f":"Plano!D33","v":43417992.710000001},{"$f":"Plano!E33","v":45542544.090000004},{"$f":"Plano!F33","v":46308356.870000005},54934526.439999998,{"$f":"H41+H44+H47","v":59588714.146937057},{"$f":"I41+I44+I47","v":64362899.225256592}]
["3.1.00.00.00.00.00","PESSOAL E ENCARGOS SOCIAIS",{"$f":"Plano!C34","v":20969384.490000002},{"$f":"Plano!D34","v":26516003.68},{"$f":"Plano!E34","v":27460882.829999998},{"$f":"Plano!F34","v":29483148},32954437.5,{"$f":"H42+H43","v":35633830.995375},{"$f":"I42+I43","v":38721823.1556032}]
["3.1.00.00.00.00.00","Pessoal  Próprio",{"$f":"Plano!C35","v":19444887.600000001},{"$f":"Plano!D35","v":24516809.34},{"$f":"Plano!E35","v":25403331.379999999},{"$f":"Plano!F35","v":26786586},28517304.27,{"$f":"G42*(1+Parâmetros!F11)*(1+Parâmetros!F13)*(1+Parâmetros!F17)","v":30835932.210976619},{"$f":"H42*(1+Parâmetros!G11)*(1+Parâmetros!G13)*(1+Parâmetros!G17)","v":33508143.26044764}]
["3.1.00.00.00.00.00","Pessoal  do  R P P S  (Fonte 0050)",{"$f":"Plano!C36","v":1524496.89},{"$f":"Plano!D36","v":1999194.34},{"$f":"Plano!E36","v":2057551.45},{"$f":"Plano!F36","v":2696562},4437133.2300000004,{"$f":"G43*(1+Parâmetros!F11)*(1+Parâmetros!F13)*(1+Parâmetros!F17)","v":4797898.7843983807},{"$f":"H43*(1+Parâmetros!G11)*(1+Parâmetros!G13)*(1+Parâmetros!G17)","v":5213679.8951555593}]
["3.2.00.00.00.00.00","JUROS E ENCARGOS DA DÍVIDA",{"$f":"Plano!C37","v":0},{"$f":"Plano!D37","v":0},{"$f":"Plano!E37","v":39508.44},{"$f":"Plano!F37","v":0},364366.42,{"$f":"H45+H46","v":863296.54},{"$f":"I45+I46","v":1025134.76}]
["3.2.00.00.00.00.00","Juros e Encargos da Dívida",{"$f":"Plano!C38","v":0},{"$f":"Plano!D38","v":0},{"$f":"Plano!E38","v":39508.44},{"$f":"Plano!F38","v":0},364366.42,863296.54,1025134.76]
["3.2.00.00.00.00.00","Juros e encargos da Dívida RPPS  (Fonte 0050)",{"$f":"Plano!C39","v":0},{"$f":"Plano!D39","v":0},{"$f":"Plano!E39","v":0},{"$f":"Plano!F39","v":0},0,{"$f":"G46*(1+Parâmetros!F11)*(1+Parâmetros!F19)","v":0},{"$f":"H46*(1+Parâmetros!G11)*(1+Parâmetros!G19)","v":0}]
["3.3.00.00.00.00.00","OUTRAS DESPESAS CORRENTES",{"$f":"Plano!C40","v":14288930.130000001},{"$f":"Plano!D40","v":16901989.030000001},{"$f":"Plano!E40","v":18042152.82},{"$f":"Plano!F40","v":16825208.870000001},21675722.52,{"$f":"H48+H49","v":23091586.611562055},{"$f":"I48+I49","v":24615941.309653394}]
["3.3.00.00.00.00.00","Outras Despesas Correntes",{"$f":"Plano!C41","v":14272541.310000001},{"$f":"Plano!D41","v":16885947.850000001},{"$f":"Plano!E41","v":18018388.93},{"$f":"Plano!F41","v":16813484.949999999},21615722.52,{"$f":"G48*(1+Parâmetros!F11)*(1+Parâmetros!F14)","v":23027667.395239953},{"$f":"H48*(1+Parâmetros!G11)*(1+Parâmetros!G14)","v":24547802.567001726}]
["3.3.00.00.00.00.00","Outras Despesas Corrente  RPPS (Fonte 0050)",{"$f":"Plano!C42","v":16388.82},{"$f":"Plano!D42","v":16041.18},{"$f":"Plano!E42","v":23763.89},{"$f":"Plano!F42","v":11723.92},60000,{"$f":"G49*(1+Parâmetros!F11)*(1+Parâmetros!F14)","v":63919.216322101325},{"$f":"H49*(1+Parâmetros!G11)*(1+Parâmetros!G14)","v":68138.742651666107}]
["4.0.00.00.00.00.00","DESPESAS DE CAPITAL",{"$f":"Plano!C43","v":2965650.88},{"$f":"Plano!D43","v":2199533.75},{"$f":"Plano!E43","v":7108620.9899999993},{"$f":"Plano!F43","v":6060716},29668709.300000001,{"$f":"H51+H54+H57","v":12035877.458000001},{"$f":"I51+I54+I57","v":10338414.864666669}]
["4.4.00.00.00.00.00","INVESTIMENTOS",{"$f":"Plano!C44","v":2965650.88},{"$f":"Plano!D44","v":2199533.75},{"$f":"Plano!E44","v":7020562.5999999996},{"$f":"Plano!F44","v":6060716},29668709.300000001,{"$f":"H52+H53","v":11919430.058},{"$f":"I52+I53","v":9972433.7646666691}]
["4.4.00.00.00.00.00","Investimentos",{"$f":"Plano!C45","v":2962232.88},{"$f":"Plano!D45","v":2197813.75},{"$f":"Plano!E45","v":7020562.5999999996},{"$f":"Plano!F45","v":6059126},29658709.300000001,11916842.458000001,{"$f":"AVERAGE(C52:H52)","v":9969214.4980000015}]
["4.4.00.00.00.00.00","Investimentos  RPPS  (Fonte 0050)",{"$f":"Plano!C46","v":3418},{"$f":"Plano!D46","v":1720},{"$f":"Plano!E46","v":0},{"$f":"Plano!F46","v":1590},10000,2587.6,{"$f":"AVERAGE(C53:H53)","v":3219.2666666666664}]
["4.5.00.00.00.00.00","INVERSÕES FINANCEIRAS",{"$f":"Plano!C47","v":0},{"$f":"Plano!D47","v":0},{"$f":"Plano!E47","v":0},{"$f":"Plano!F47","v":0},0,{"$f":"H55+H56","v":0},{"$f":"I55+I56","v":0}]
["4.5.90.66.00.00.00","Concessão de Empréstimos e Financiamentos",{"$f":"Plano!C48","v":0},{"$f":"Plano!D48","v":0},{"$f":"Plano!E48","v":0},{"$f":"Plano!F48","v":0},0,{"$f":"G55*(1+Parâmetros!F11)*(1+Parâmetros!F12)","v":0},{"$f":"H55*(1+Parâmetros!G11)*(1+Parâmetros!G12)","v":0}]
["4.5.90.99.00.00.00","Outras Inversões Financeiras",{"$f":"Plano!C49","v":0},{"$f":"Plano!D49","v":0},{"$f":"Plano!E49","v":0},{"$f":"Plano!F49","v":0},0,{"$f":"G56*(1+Parâmetros!F11)*(1+Parâmetros!F12)","v":0},{"$f":"H56*(1+Parâmetros!G11)*(1+Parâmetros!G12)","v":0}]
["4.6.00.00.00.00.00","AMORTIZAÇÃO DA DÍVIDA PÚBLICA",{"$f":"Plano!C50","v":0},{"$f":"Plano!D50","v":0},{"$f":"Plano!E50","v":88058.39},{"$f":"Plano!F50","v":0},0,116447.4,365981.1]
["9.0.00.00.00.00.00","RESERVA DE CONTINGÊNCIA",null,null,null,{"$f":"Plano!F52","v":0},244392.11,{"$f":"H35-H40-H50-H59","v":-41178.648962164298},{"$f":"I35-I40-I50-I59","v":-4254050.425402781}]
["7.7.99.99.99.99.99","RESERVA DE CONTINGÊNCIA DO RPPS",null,null,null,{"$f":"Plano!F53","v":4000125.5600000005},4841280.7699999996,{"$f":"(H13+H17+H25+H32)-(H43+H46+H49+H53)","v":8522033.7625035178},{"$f":"(I13+I17+I25+I32)-(I43+I46+I49+I53)","v":9041425.7900348082}]
[null,"TOTAL DA DESPESA",{"$f":"Plano!C55","v":38223965.500000007},{"$f":"Plano!D55","v":45617526.460000001},{"$f":"Plano!E55","v":52651165.080000006},{"$f":"Plano!F55","v":56369198.430000007},{"$f":"G40+G50+G58+G59","v":89688908.61999999},{"$f":"H40+H50+H58+H59","v":80105446.718478411},{"$f":"I40+I50+I58+I59","v":79488689.454555303}]
[50000002,"Operação de Crédito Externo"]
[null,"RESULTADOS ","REALIZADO",{"$f":"IF(#REF!>0,\"REALIZADO\",\"PROJETADO\")","v":{"$error":"#REF!"}},{"$f":"IF(#REF!>0,\"REALIZADO\",\"PROJETADO\")","v":{"$error":"#REF!"}},{"$f":"IF(#REF!>0,\"REALIZADO\",\"PROJETADO\")","v":{"$error":"#REF!"}},"PROJETADO",null,"PROJETADO"]
[null,"FISCAIS",1999,2000,2001,2002,2003,null,2004]
[]
[null,"1. RECEITA CORRENTE LÍQUIDA",{"$f":"C8-#REF!-C14+C69-#REF!","v":{"$error":"#REF!"}},{"$f":"D8-#REF!-D14+D69-#REF!","v":{"$error":"#REF!"}},{"$f":"E8-#REF!-E14+E69-#REF!","v":{"$error":"#REF!"}},{"$f":"F8-#REF!-F14+F69-#REF!","v":{"$error":"#REF!"}},{"$f":"G8-#REF!-G14+G69-#REF!","v":{"$error":"#REF!"}},null,{"$f":"I8-#REF!-I14+I69-#REF!","v":{"$error":"#REF!"}}]
[null,"2. RECEITAS DE TRIBUTOS",{"$f":"C9","v":47010371.969999999},{"$f":"D9","v":53650655.460000001},58495029.010000005,55343210.829999998,66081853,null,73440355.622215137]
[null,"3. RECEITAS FINANCEIRAS",{"$f":"C19+C20+C22+#REF!+#REF!+#REF!+#REF!","v":{"$error":"#REF!"}},{"$f":"D19+D20+D22+#REF!+#REF!+#REF!+#REF!","v":{"$error":"#REF!"}},{"$f":"E19+E20+E22+#REF!+#REF!+#REF!+#REF!","v":{"$error":"#REF!"}},{"$f":"F19+F20+F22+#REF!+#REF!+#REF!+#REF!","v":{"$error":"#REF!"}},{"$f":"G19+G20+G22+#REF!+#REF!+#REF!+#REF!","v":{"$error":"#REF!"}},null,{"$f":"I19+I20+I22+#REF!+#REF!+#REF!+#REF!","v":{"$error":"#REF!"}}]
[null,"4. RENÚNCIA FISCAL",{"$f":"#REF!","v":{"$error":"#REF!"}},{"$f":"#REF!","v":{"$error":"#REF!"}},{"$f":"#REF!","v":{"$error":"#REF!"}},{"$f":"#REF!","v":{"$error":"#REF!"}},{"$f":"#REF!","v":{"$error":"#REF!"}},null,{"$f":"#REF!","v":{"$error":"#REF!"}}]
[null,"5. VALOR LÍQUIDO DO FUNDEF",{"$f":"#REF!-#REF!","v":{"$error":"#REF!"}},{"$f":"#REF!-#REF!","v":{"$error":"#REF!"}},{"$f":"#REF!-#REF!","v":{"$error":"#REF!"}},{"$f":"#REF!-#REF!","v":{"$error":"#REF!"}},{"$f":"#REF!-#REF!","v":{"$error":"#REF!"}},null,{"$f":"#REF!-#REF!","v":{"$error":"#REF!"}}]
[null,"6. TRANSFERÊNCIAS DA UNIÃO",{"$f":"#REF!","v":{"$error":"#REF!"}},{"$f":"#REF!","v":{"$error":"#REF!"}},{"$f":"#REF!","v":{"$error":"#REF!"}},{"$f":"#REF!","v":{"$error":"#REF!"}},{"$f":"#REF!","v":{"$error":"#REF!"}},null,{"$f":"#REF!","v":{"$error":"#REF!"}}]
[null,"7. TRANSFERÊNCIAS DOS ESTADOS",{"$f":"#REF!","v":{"$error":"#REF!"}},{"$f":"#REF!","v":{"$error":"#REF!"}},{"$f":"#REF!","v":{"$error":"#REF!"}},{"$f":"#REF!","v":{"$error":"#REF!"}},{"$f":"#REF!","v":{"$error":"#REF!"}},null,{"$f":"#REF!","v":{"$error":"#REF!"}}]
[null,"8. OPERAÇÕES DE CRÉDITO",{"$f":"#REF!","v":{"$error":"#REF!"}},{"$f":"#REF!","v":{"$error":"#REF!"}},{"$f":"#REF!","v":{"$error":"#REF!"}},{"$f":"#REF!","v":{"$error":"#REF!"}},{"$f":"#REF!","v":{"$error":"#REF!"}},null,{"$f":"#REF!","v":{"$error":"#REF!"}}]
[null,"9. AROS",{"$f":"C30","v":3292194.84},{"$f":"D30","v":2995490.22},5652688.0800000001,4691439.83,14341053,null,6631910.0614964003]
[null,"10. PESSOAL ATIVO",{"$f":"#REF!+#REF!+C55+C56+C57+#REF!+C59+C60+C44+#REF!","v":{"$error":"#REF!"}},{"$f":"#REF!+#REF!+D55+D56+D57+#REF!+D59+D60+D44+#REF!","v":{"$error":"#REF!"}},{"$f":"#REF!+#REF!+E55+E56+E57+#REF!+E59+E60+E44+#REF!","v":{"$error":"#REF!"}},{"$f":"#REF!+#REF!+F55+F56+F57+#REF!+F59+F60+F44+#REF!","v":{"$error":"#REF!"}},{"$f":"#REF!+#REF!+G55+G56+G57+#REF!+G59+G60+G44+#REF!","v":{"$error":"#REF!"}},null,{"$f":"#REF!+#REF!+I55+I56+I57+#REF!+I59+I60+I44+#REF!","v":{"$error":"#REF!"}}]
[null,"11. PESSOAL INATIVO",{"$f":"#REF!+#REF!","v":{"$error":"#REF!"}},{"$f":"#REF!+#REF!","v":{"$error":"#REF!"}},{"$f":"#REF!+#REF!","v":{"$error":"#REF!"}},{"$f":"#REF!+#REF!","v":{"$error":"#REF!"}},{"$f":"#REF!+#REF!","v":{"$error":"#REF!"}},null,{"$f":"#REF!+#REF!","v":{"$error":"#REF!"}}]
[null,"12. PENSIONISTAS",{"$f":"C51+C54","v":2965650.88},{"$f":"D51+D54","v":2199533.75},{"$f":"E51+E54","v":7020562.5999999996},{"$f":"F51+F54","v":6060716},{"$f":"G51+G54","v":29668709.300000001},null,{"$f":"I51+I54","v":9972433.7646666691}]
[null,"13. SERVIÇOS DE TERCEIROS",{"$f":"#REF!","v":{"$error":"#REF!"}},{"$f":"#REF!","v":{"$error":"#REF!"}},{"$f":"#REF!","v":{"$error":"#REF!"}},{"$f":"#REF!","v":{"$error":"#REF!"}},{"$f":"#REF!","v":{"$error":"#REF!"}},null,{"$f":"#REF!","v":{"$error":"#REF!"}}]
[null,"14. OUTROS CUSTEIOS CORRENTES",{"$f":"C47+#REF!+#REF!+#REF!+#REF!+#REF!+#REF!","v":{"$error":"#REF!"}},{"$f":"D47+#REF!+#REF!+#REF!+#REF!+#REF!+#REF!","v":{"$error":"#REF!"}},{"$f":"E47+#REF!+#REF!+#REF!+#REF!+#REF!+#REF!","v":{"$error":"#REF!"}},{"$f":"F47+#REF!+#REF!+#REF!+#REF!+#REF!+#REF!","v":{"$error":"#REF!"}},{"$f":"G47+#REF!+#REF!+#REF!+#REF!+#REF!+#REF!","v":{"$error":"#REF!"}},null,{"$f":"I47+#REF!+#REF!+#REF!+#REF!+#REF!+#REF!","v":{"$error":"#REF!"}}]
[null,"15. INVESTIMENTOS",{"$f":"#REF!","v":{"$error":"#REF!"}},{"$f":"#REF!","v":{"$error":"#REF!"}},{"$f":"#REF!","v":{"$error":"#REF!"}},{"$f":"#REF!","v":{"$error":"#REF!"}},{"$f":"#REF!","v":{"$error":"#REF!"}},null,{"$f":"#REF!","v":{"$error":"#REF!"}}]
[null,"16. ENCARGOS DA DÍVIDA",{"$f":"#REF!+#REF!","v":{"$error":"#REF!"}},{"$f":"#REF!+#REF!","v":{"$error":"#REF!"}},{"$f":"#REF!+#REF!","v":{"$error":"#REF!"}},{"$f":"#REF!+#REF!","v":{"$error":"#REF!"}},{"$f":"#REF!+#REF!","v":{"$error":"#REF!"}},null,{"$f":"#REF!+#REF!","v":{"$error":"#REF!"}}]
[null,"17. AMORTIZAÇÕES DA DÍVIDA",{"$f":"#REF!+#REF!","v":{"$error":"#REF!"}},{"$f":"#REF!+#REF!","v":{"$error":"#REF!"}},{"$f":"#REF!+#REF!","v":{"$error":"#REF!"}},{"$f":"#REF!+#REF!","v":{"$error":"#REF!"}},{"$f":"#REF!+#REF!","v":{"$error":"#REF!"}},null,{"$f":"#REF!+#REF!","v":{"$error":"#REF!"}}]
[null,"18. DESPESAS FINANCEIRAS",{"$f":"C80+C81","v":{"$error":"#REF!"}},{"$f":"D80+D81","v":{"$error":"#REF!"}},{"$error":"#REF!"},{"$error":"#REF!"},{"$error":"#REF!"},null,{"$error":"#REF!"}]
[null,"19. RESULTADO PRIMÁRIO",{"$f":" ((C8+C28)-(C67)-((#REF!+#REF!)-C82))","v":{"$error":"#REF!"}},{"$f":" ((D8+D28)-(D67)-((#REF!+#REF!)-D82))","v":{"$error":"#REF!"}},{"$f":" ((E8+E28)-(E67)-((#REF!+#REF!)-E82))","v":{"$error":"#REF!"}},{"$f":" ((F8+F28)-(F67)-((#REF!+#REF!)-F82))","v":{"$error":"#REF!"}},{"$f":" ((G8+G28)-(G67)-((#REF!+#REF!)-G82))","v":{"$error":"#REF!"}},null,{"$f":" ((I8+I28)-(I67)-((#REF!+#REF!)-I82))","v":{"$error":"#REF!"}}]
[null,"20. RESULTADO NOMINAL",{"$f":"-(C83-(C80-C19-C20-C22-#REF!))","v":{"$error":"#REF!"}},{"$f":"-(D83-(D80-D19-D20-D22-#REF!))","v":{"$error":"#REF!"}},{"$f":"-(E83-(E80-E19-E20-E22-#REF!))","v":{"$error":"#REF!"}},{"$f":"-(F83-(F80-F19-F20-F22-#REF!))","v":{"$error":"#REF!"}},{"$f":"-(G83-(G80-G19-G20-G22-#REF!))","v":{"$error":"#REF!"}},null,{"$f":"-(I83-(I80-I19-I20-I22-#REF!))","v":{"$error":"#REF!"}}]

{"sheet":"Parâmetros","index":3,"n_rows":20,"n_cols":7,"rows_kept":20,"cut":false,"hidden":false,"merged":[[21,0,63,6],[6,0,6,9],[7,0,7,9],[8,0,8,9]]}
[]
[]
[]
[]
[]
[]
["Município de Jaguarão"]
["LEI DE DIRETRIZES ORÇAMENTÁRIAS PARA 2016"]
["TABELA  01 - Parâmentos Utilizados nas Estimativas das Receitas e Despesas"]
["Execício",2013,2014,2015,2016,2017,2018]
["INFLAÇÃO MÉDIA ANUAL   (I P C A)",5.91E-2,6.3399999999999998E-2,9.3100000000000002E-2,0.1033,0.06,0.06]
["VARIAÇÃO DO PIB ",2.3E-2,1E-3,0,-2.5000000000000001E-2,0.01,0.01]
["CRESCIMENTO VEGETATIVO DA FOLHA SALARIAL",{"$f":"IF(Projeções!C41=0,\"-\",((Projeções!D41/Projeções!C41)-1)-B11-B17)","v":0.19381034805743114},{"$f":"IF(Projeções!D41=0,\"-\",((Projeções!E41/Projeções!D41)-1)-C11-C17)","v":-4.9765703014565357E-2},0.02,0,0.01,{"$f":"(D13+E13+F13)/3","v":0.01}]
["CRESCIMENTO AUTÔNOMO DE OUTROS CUSTEIOS",{"$f":"IF(Projeções!C47=0,\"-\",((Projeções!D47/Projeções!C47)-1)-B11-B12)","v":0.10077295663331803},{"$f":"IF(Projeções!D47=0,\"-\",((Projeções!E47/Projeções!D47)-1)-C11-C12)","v":3.0573736840249369E-3},5.0000000000000001E-3,7.0000000000000001E-3,{"$f":"(C14+D14+E14)/3","v":5.0191245613416457E-3},{"$f":"(D14+E14+F14)/3","v":5.6730415204472159E-3}]
["ESFORÇO NA ARRECADAÇÃO TRIBUTÁRIA",{"$f":"IF(Projeções!C10=0,\"-\",((Projeções!D10/Projeções!C10)-1)-B11-B12)","v":0.30770419453326131},{"$f":"IF(Projeções!D10=0,\"-\",((Projeções!E10/Projeções!D10)-1)-C11-C12)","v":4.1890113873179327E-2},0.05,0.15,8.0630037957726441E-2,9.3543345985908813E-2]
["CRESC.REAL DAS RECEITAS TRANSFERIDAS",{"$f":"IF(Projeções!C22=0,\"-\",((Projeções!D22/Projeções!C22)-1)-B11-B12)","v":7.3092206282636962E-2},{"$f":"IF(Projeções!D22=0,\"-\",((Projeções!E22/Projeções!D22)-1)-C11-C12)","v":-3.6140261164460327E-2},{"$f":"IF(Projeções!E22=0,\"-\",((Projeções!F22/Projeções!E22)-1)-D11-D12)","v":-0.10419738039949382},0.03,-3.6779213854651382E-2,-3.6992198084715065E-2]
["PERCENTUAL DE AUMENTO SALARIAL",{"$f":"7%-5.84%","v":1.1600000000000006E-2},{"$f":"8.11%-B11","v":2.1999999999999992E-2},{"$f":"6.34%-C11","v":0},0,0.01,1.4999999999999999E-2]
["CRESCIMENTO DOS INVESTIMENTOS ",{"$f":"IF(Projeções!C51=0,\"-\",((Projeções!D51/Projeções!C51)-1)-B11-B12)","v":-0.34043018146761767},{"$f":"IF(Projeções!D51=0,\"-\",((Projeções!E51/Projeções!D51)-1)-C11-C12)","v":2.1274412709057087},{"$f":"IF(Projeções!E51=0,\"-\",((Projeções!F51/Projeções!E51)-1)-D11-D12)","v":-0.22981932787836684},{"$f":"IF(Projeções!F51=0,\"-\",((Projeções!G51/Projeções!F51)-1)-E11-E12)","v":3.8169482346970223},{"$f":"IF(Projeções!G51=0,\"-\",((Projeções!H51/Projeções!G51)-1)-F11-F12)","v":-0.66824912039567552},{"$f":"IF(Projeções!H51=0,0,((Projeções!I51/Projeções!H51)-1)-G11-G12)","v":-0.23334642544645495}]
["Taxa de Juros (Selic Efetiva)",0.1,0.11,0.1363,0.13159999999999999,0.13500000000000001,0.13500000000000001]
["PIB / RS (em R$ milhões)",310606,330604,331500,{"$f":"D20*(1+E11+E12)","v":357456.45},{"$f":"E20*(1+F11+F12)","v":382478.40150000004},{"$f":"F20*(1+G11+G12)","v":409251.88960500009}]

{"sheet":"Metas","index":4,"n_rows":20,"n_cols":10,"rows_kept":20,"cut":false,"hidden":false,"merged":[[0,0,0,9],[1,0,1,9],[2,0,2,9],[3,0,3,9],[4,0,4,9],[19,0,19,9],[6,1,6,3],[6,4,6,6],[6,7,6,9],[7,0,10,0],[7,1,7,3],[7,4,7,6],[7,7,7,9]]}
[{"$f":"Parâmetros!A7","v":"Município de Jaguarão"}]
["LEI DE DIRETRIZES ORÇAMENTÁRIAS"]
["ANEXO XI - METAS FISCAIS"]
["DEMONSTRATIVO DAS METAS ANUAIS - CONSOLIDADO"]
["EXERCÍCIO DE 2016"]
[]
["AMF - Demonstrativo I (LRF, art. 4º, § 1º)",null,null,null,null,null,null,1]
["ESPECIFICAÇÃO",2016,null,null,2017,null,null,2018]
[null,"Valor","Valor","% PIB","Valor","Valor","% PIB","Valor","Valor","% PIB"]
[null,"Corrente","Constante","(a / PIB)","Corrente","Constante","(b / PIB)","Corrente","Constante","(c / PIB)"]
[null,"(a)",null,"x 100","(b)",null,"x 100","(c)",null,"x 100"]
["  Receita Total",{"$f":"Projeções!G35","v":89688908.620000005},{"$f":"B12/(1+Parâmetros!E11)","v":81291496.98178193},{"$f":"B12/(Parâmetros!E20)/1000000","v":2.5090863130319791E-4},{"$f":"Projeções!H35","v":80105446.718478411},{"$f":"E12/((1+Parâmetros!E11)*(1+Parâmetros!F11))","v":68495582.479387239},{"$f":"E12/(Parâmetros!F20)/1000000","v":2.0943783074893029E-4},{"$f":"Projeções!I35","v":79488689.454555288},{"$f":"H12/((1+Parâmetros!E11)*(1+Parâmetros!F11)*(1+Parâmetros!G11))","v":64120955.892279215},{"$f":"H12/(Parâmetros!G20)/1000000","v":1.9422925458273591E-4}]
["  Receitas Primárias (I)",{"$f":"B12-(Projeções!G15+Projeções!G27+Projeções!G28+Projeções!G29)","v":74904335.460000008},{"$f":"B13/(1+Parâmetros!E11)","v":67891176.88751927},{"$f":"B13/(Parâmetros!E20)/1000000","v":2.0954814344516655E-4},{"$f":"E12-(Projeções!H15+Projeções!H27+Projeções!H28+Projeções!H29)","v":70122586.773678407},{"$f":"E13/((1+Parâmetros!E11)*(1+Parâmetros!F11))","v":59959561.088328846},{"$f":"E13/(Parâmetros!F20)/1000000","v":1.8333737669544827E-4},{"$f":"H12-(Projeções!I15+Projeções!I27+Projeções!I28+Projeções!I29)","v":74153857.913067281},{"$f":"H13/((1+Parâmetros!E11)*(1+Parâmetros!F11)*(1+Parâmetros!G11))","v":59817519.764299512},{"$f":"H13/(Parâmetros!G20)/1000000","v":1.8119368485906997E-4}]
[" Despesa Total",{"$f":"Projeções!G60","v":89688908.61999999},{"$f":"B14/(1+Parâmetros!E11)","v":81291496.981781915},{"$f":"B14/(Parâmetros!E20)/1000000","v":2.5090863130319786E-4},{"$f":"Projeções!H60","v":80105446.718478411},{"$f":"E14/((1+Parâmetros!E11)*(1+Parâmetros!F11))","v":68495582.479387239},{"$f":"E14/(Parâmetros!F20)/1000000","v":2.0943783074893029E-4},{"$f":"Projeções!I60","v":79488689.454555303},{"$f":"H14/((1+Parâmetros!E11)*(1+Parâmetros!F11)*(1+Parâmetros!G11))","v":64120955.89227923},{"$f":"H14/(Parâmetros!G20)/1000000","v":1.9422925458273594E-4}]
["Despesas Primárias (II)",{"$f":"B14-(Projeções!G44+Projeções!G55+Projeções!G57)","v":89324542.199999988},{"$f":"B15/(1+Parâmetros!E11)","v":80961245.53611891},{"$f":"B15/(Parâmetros!E20)/1000000","v":2.4988930036092503E-4},{"$f":"E14-(Projeções!H44+Projeções!H55+Projeções!H57)","v":79125702.778478414},{"$f":"E15/((1+Parâmetros!E11)*(1+Parâmetros!F11))","v":67657835.052713573},{"$f":"E15/(Parâmetros!F20)/1000000","v":2.0687626404043734E-4},{"$f":"H14-(Projeções!I44+Projeções!I55+Projeções!I57)","v":78097573.594555303},{"$f":"H15/((1+Parâmetros!E11)*(1+Parâmetros!F11)*(1+Parâmetros!G11))","v":62998787.703167155},{"$f":"H15/(Parâmetros!G20)/1000000","v":1.9083008674665661E-4}]
[" Resultado Primário (I – II)",{"$f":"B13-B15","v":-14420206.73999998},{"$f":"C13-C15","v":-13070068.64859964},{"$f":"B16/(Parâmetros!E20)/1000000","v":-4.0341156915758489E-5},{"$f":"E13-E15","v":-9003116.0048000067},{"$f":"F13-F15","v":-7698273.9643847272},{"$f":"E16/(Parâmetros!F20)/1000000","v":-2.353888734498909E-5},{"$f":"H13-H15","v":-3943715.6814880222},{"$f":"I13-I15","v":-3181267.9388676435},{"$f":"H16/(Parâmetros!G20)/1000000","v":-9.6364018875866393E-6}]
[" Resultado Nominal",{"$f":"Dívida!E12","v":10568400.528066665},{"$f":"B17/(1+Parâmetros!E11)","v":9578900.1432671677},{"$f":"B17/(Parâmetros!E20)/1000000","v":2.9565561141970342E-5},{"$f":"Dívida!F12","v":2348070.1337062214},{"$f":"E17/((1+Parâmetros!E11)*(1+Parâmetros!F11))","v":2007758.998909123},{"$f":"E17/(Parâmetros!F20)/1000000","v":6.139092101665304E-6},{"$f":"Dívida!G12","v":-2361042.266930664},{"$f":"H17/((1+Parâmetros!E11)*(1+Parâmetros!F11)*(1+Parâmetros!G11))","v":-1904576.4636014155},{"$f":"H17/(Parâmetros!G20)/1000000","v":-5.7691664397920898E-6}]
[" Dívida Pública Consolidada ",{"$f":"Dívida!E7","v":9442464.5},{"$f":"B18/(1+Parâmetros!E11)","v":8558383.4859059192},{"$f":"B18/(Parâmetros!E20)/1000000","v":2.6415706025167543E-5},{"$f":"Dívida!F7","v":13412720.560000001},{"$f":"E18/((1+Parâmetros!E11)*(1+Parâmetros!F11))","v":11468784.521221926},{"$f":"E18/(Parâmetros!F20)/1000000","v":3.5067916272914043E-5},{"$f":"Dívida!G7","v":12021604.700000001},{"$f":"H18/((1+Parâmetros!E11)*(1+Parâmetros!F11)*(1+Parâmetros!G11))","v":9697439.8497765381},{"$f":"H18/(Parâmetros!G20)/1000000","v":2.9374585690008567E-5}]
[" Dívida Consolidada Líquida ",{"$f":"Dívida!E9","v":-3930959.8833333347},{"$f":"B19/(1+Parâmetros!E11)","v":-3562911.1604580213},{"$f":"B19/(Parâmetros!E20)/1000000","v":-1.0997031619749301E-5},{"$f":"Dívida!F9","v":-761741.6711111106},{"$f":"E19/((1+Parâmetros!E11)*(1+Parâmetros!F11))","v":-651340.72149854945},{"$f":"E19/(Parâmetros!F20)/1000000","v":-1.9915939517727527E-6},{"$f":"Dívida!G9","v":-2252366.9748148136},{"$f":"H19/((1+Parâmetros!E11)*(1+Parâmetros!F11)*(1+Parâmetros!G11))","v":-1816911.618952984},{"$f":"H19/(Parâmetros!G20)/1000000","v":-5.5036202202725144E-6}]
["Fonte:"]

{"sheet":"MetasRPPS","index":5,"n_rows":17,"n_cols":10,"rows_kept":17,"cut":false,"hidden":false,"merged":[[16,0,16,9],[7,0,10,0],[7,1,7,3],[7,4,7,6],[7,7,7,9],[6,1,6,3],[6,4,6,6],[6,7,6,9],[0,0,0,9],[1,0,1,9],[2,0,2,9],[3,0,3,9],[4,0,4,9]]}
[{"$f":"Parâmetros!A7","v":"Município de Jaguarão"}]
["LEI DE DIRETRIZES ORÇAMENTÁRIAS"]
["ANEXO III - METAS FISCAIS"]
["DEMONSTRATIVO DAS METAS DE RESULTADO PRIMÁRIO DO PREGIME PRÓPRIO DE PREVIDÊNCIA SOCIAL"]
["EXERCÍCIO DE 2016"]
[]
["AMF - Demonstrativo I (LRF, art. 4º, § 1º)",null,null,null,null,null,null,1]
["ESPECIFICAÇÃO",2015,null,null,2016,null,null,2017]
[null,"Valor","Valor","% PIB","Valor","Valor","% PIB","Valor","Valor","% PIB"]
[null,"Corrente","Constante","(a / PIB)","Corrente","Constante","(b / PIB)","Corrente","Constante","(c / PIB)"]
[null,"(a)",null,"x 100","(b)",null,"x 100","(c)",null,"x 100"]
["  Receita Total RPPS",{"$f":"Projeções!G13+Projeções!G17+Projeções!G25+Projeções!G32","v":12548234.039999999},{"$f":"B12/(1+Parâmetros!E11)","v":11373365.394724917},{"$f":"B12/(Parâmetros!E20)/1000000","v":3.5104231690321992E-5},{"$f":"Projeções!H13+Projeções!H17+Projeções!H25+Projeções!H32","v":13386439.363224},{"$f":"E12/((1+Parâmetros!E11)*(1+Parâmetros!F11))","v":11446312.317955226},{"$f":"E12/(Parâmetros!F20)/1000000","v":3.4999203381747033E-5},{"$f":"Projeções!I13+Projeções!I17+Projeções!I25+Projeções!I32","v":14326463.694508702},{"$f":"H12/((1+Parâmetros!E11)*(1+Parâmetros!F11)*(1+Parâmetros!G11))","v":11556695.083935466},{"$f":"H12/(Parâmetros!G20)/1000000","v":3.5006469263553684E-5}]
["  Receitas Primárias RPPS (I)",{"$f":"B12-Projeções!G17","v":8048234.0399999991},{"$f":"B13/(1+Parâmetros!E11)","v":7294692.3230309067},{"$f":"B13/(Parâmetros!E20)/1000000","v":2.2515285540378411E-5},{"$f":"E12-Projeções!H17","v":8616439.3632239997},{"$f":"E13/((1+Parâmetros!E11)*(1+Parâmetros!F11))","v":7367639.2462612167},{"$f":"E13/(Parâmetros!F20)/1000000","v":2.2527910934139372E-5},{"$f":"H12-Projeções!I17","v":9270263.6945087016},{"$f":"H13/((1+Parâmetros!E11)*(1+Parâmetros!F11)*(1+Parâmetros!G11))","v":7478022.0122414567},{"$f":"H13/(Parâmetros!G20)/1000000","v":2.2651730950970399E-5}]
[" Despesa Total RPPS",{"$f":"Projeções!G43+Projeções!G46+Projeções!G49+Projeções!G53+Projeções!G59","v":9348414},{"$f":"B14/(1+Parâmetros!E11)","v":8473138.7655216176},{"$f":"B14/(Parâmetros!E20)/1000000","v":2.6152595651861927E-5},{"$f":"Projeções!H43+Projeções!H46+Projeções!H49+Projeções!H53+Projeções!H59","v":13386439.363224},{"$f":"E14/((1+Parâmetros!E11)*(1+Parâmetros!F11))","v":11446312.317955226},{"$f":"E14/(Parâmetros!F20)/1000000","v":3.4999203381747033E-5},{"$f":"Projeções!I43+Projeções!I46+Projeções!I49+Projeções!I53+Projeções!I59","v":14326463.694508702},{"$f":"H14/((1+Parâmetros!E11)*(1+Parâmetros!F11)*(1+Parâmetros!G11))","v":11556695.083935466},{"$f":"H14/(Parâmetros!G20)/1000000","v":3.5006469263553684E-5}]
["Despesas Primárias RPPS (II)",{"$f":"B14-Projeções!G46","v":9348414},{"$f":"B15/(1+Parâmetros!E11)","v":8473138.7655216176},{"$f":"B15/(Parâmetros!E20)/1000000","v":2.6152595651861927E-5},{"$f":"E14-Projeções!H46","v":13386439.363224},{"$f":"E15/((1+Parâmetros!E11)*(1+Parâmetros!F11))","v":11446312.317955226},{"$f":"E15/(Parâmetros!F20)/1000000","v":3.4999203381747033E-5},{"$f":"H14-Projeções!I46","v":14326463.694508702},{"$f":"H15/((1+Parâmetros!E11)*(1+Parâmetros!F11)*(1+Parâmetros!G11))","v":11556695.083935466},{"$f":"H15/(Parâmetros!G20)/1000000","v":3.5006469263553684E-5}]
[" Resultado Primário  RPPS (I – II)",{"$f":"B13-B15","v":-1300179.9600000009},{"$f":"C13-C15","v":-1178446.4424907109},{"$f":"B16/(Parâmetros!E20)/1000000","v":-3.6373101114835133E-6},{"$f":"E13-E15","v":-4770000},{"$f":"F13-F15","v":-4078673.071694009},{"$f":"E16/(Parâmetros!F20)/1000000","v":-1.2471292447607658E-5},{"$f":"H13-H15","v":-5056200},{"$f":"I13-I15","v":-4078673.071694009},{"$f":"H16/(Parâmetros!G20)/1000000","v":-1.2354738312583287E-5}]
["Fonte:"]

{"sheet":"Metas PREF ","index":6,"n_rows":17,"n_cols":10,"rows_kept":17,"cut":false,"hidden":false,"merged":[[16,0,16,9],[7,0,10,0],[7,1,7,3],[7,4,7,6],[7,7,7,9],[6,1,6,3],[6,4,6,6],[6,7,6,9],[0,0,0,9],[1,0,1,9],[2,0,2,9],[3,0,3,9],[4,0,4,9]]}
[{"$f":"Parâmetros!A7","v":"Município de Jaguarão"}]
["LEI DE DIRETRIZES ORÇAMENTÁRIAS"]
["ANEXO III - METAS FISCAIS"]
["DEMONSTRATIVO DAS METAS DE RESULTADO PRIMÁRIO (EXCLUÍDAS A RECEITAS E DESPESAS DO RPPS)"]
["EXERCÍCIO DE 2016"]
[]
["AMF - Demonstativo I (LRF, art. 4º, § 1º)",null,null,null,null,null,null,1]
["ESPECIFICAÇÃO",2015,null,null,2016,null,null,2017]
[null,"Valor","Valor","% PIB","Valor","Valor","% PIB","Valor","Valor","% PIB"]
[null,"Corrente","Constante","(a / PIB)","Corrente","Constante","(b / PIB)","Corrente","Constante","(c / PIB)"]
[null,"(a)",null,"x 100","(b)",null,"x 100","(c)",null,"x 100"]
["  Receita Total ",{"$f":"Metas!B12 - MetasRPPS!B12","v":77140674.580000013},{"$f":"B12/(1+Parâmetros!E11)","v":69918131.587057024},{"$f":"B12/(Parâmetros!E20)/1000000","v":2.1580439961287596E-4},{"$f":"Metas!E12 - MetasRPPS!E12","v":66719007.355254412},{"$f":"E12/((1+Parâmetros!E11)*(1+Parâmetros!F11))","v":57049270.161432013},{"$f":"E12/(Parâmetros!F20)/1000000","v":1.7443862736718325E-4},{"$f":"Metas!H12 - MetasRPPS!H12","v":65162225.760046586},{"$f":"H12/((1+Parâmetros!E11)*(1+Parâmetros!F11)*(1+Parâmetros!G11))","v":52564260.808343753},{"$f":"H12/(Parâmetros!G20)/1000000","v":1.592227853191822E-4}]
["  Receitas Primárias (I)",{"$f":"Metas!B13 - MetasRPPS!B13","v":66856101.420000009},{"$f":"B13/(1+Parâmetros!E11)","v":60596484.564488366},{"$f":"B13/(Parâmetros!E20)/1000000","v":1.8703285790478812E-4},{"$f":"Metas!E13 - MetasRPPS!E13","v":61506147.410454407},{"$f":"E13/((1+Parâmetros!E11)*(1+Parâmetros!F11))","v":52591921.842067629},{"$f":"E13/(Parâmetros!F20)/1000000","v":1.6080946576130887E-4},{"$f":"Metas!H13 - MetasRPPS!H13","v":64883594.21855858},{"$f":"H13/((1+Parâmetros!E11)*(1+Parâmetros!F11)*(1+Parâmetros!G11))","v":52339497.752058059},{"$f":"H13/(Parâmetros!G20)/1000000","v":1.5854195390809956E-4}]
[" Despesa Total ",{"$f":"Metas!B14 - MetasRPPS!B14","v":80340494.61999999},{"$f":"B14/(1+Parâmetros!E11)","v":72818358.216260299},{"$f":"B14/(Parâmetros!E20)/1000000","v":2.2475603565133597E-4},{"$f":"Metas!E14 - MetasRPPS!E14","v":66719007.355254412},{"$f":"E14/((1+Parâmetros!E11)*(1+Parâmetros!F11))","v":57049270.161432013},{"$f":"E14/(Parâmetros!F20)/1000000","v":1.7443862736718325E-4},{"$f":"Metas!H14 - MetasRPPS!H14","v":65162225.760046601},{"$f":"H14/((1+Parâmetros!E11)*(1+Parâmetros!F11)*(1+Parâmetros!G11))","v":52564260.808343761},{"$f":"H14/(Parâmetros!G20)/1000000","v":1.5922278531918223E-4}]
["Despesas Primárias  (II)",{"$f":"Metas!B15 - MetasRPPS!B15","v":79976128.199999988},{"$f":"B15/(1+Parâmetros!E11)","v":72488106.770597294},{"$f":"B15/(Parâmetros!E20)/1000000","v":2.2373670470906315E-4},{"$f":"Metas!E15 - MetasRPPS!E15","v":65739263.415254414},{"$f":"E15/((1+Parâmetros!E11)*(1+Parâmetros!F11))","v":56211522.734758347},{"$f":"E15/(Parâmetros!F20)/1000000","v":1.718770606586903E-4},{"$f":"Metas!H15 - MetasRPPS!H15","v":63771109.900046602},{"$f":"H15/((1+Parâmetros!E11)*(1+Parâmetros!F11)*(1+Parâmetros!G11))","v":51442092.619231693},{"$f":"H15/(Parâmetros!G20)/1000000","v":1.5582361748310293E-4}]
[" Resultado Primário (I – II)",{"$f":"B13-B15","v":-13120026.779999979},{"$f":"C13-C15","v":-11891622.206108928},{"$f":"B16/(Parâmetros!E20)/1000000","v":-3.670384680427498E-5},{"$f":"E13-E15","v":-4233116.0048000067},{"$f":"F13-F15","v":-3619600.8926907182},{"$f":"E16/(Parâmetros!F20)/1000000","v":-1.1067594897381432E-5},{"$f":"H13-H15","v":1112484.3185119778},{"$f":"I13-I15","v":897405.13282636553},{"$f":"H16/(Parâmetros!G20)/1000000","v":2.7183364249966459E-6}]
["Fonte:"]

{"sheet":" Avaliação","index":7,"n_rows":19,"n_cols":7,"rows_kept":19,"cut":false,"hidden":false,"merged":[[18,0,18,6],[6,5,6,6],[7,0,9,0],[7,1,8,1],[7,2,8,2],[7,3,8,3],[7,4,8,4],[7,5,8,6],[6,0,6,1],[4,0,4,6],[5,0,5,6],[0,0,0,6],[1,0,1,6],[2,0,2,6],[3,0,3,6]]}
[{"$f":"Parâmetros!A7","v":"Município de Jaguarão"}]
["LEI DE DIRETRIZES ORÇAMENTÁRIAS"]
["ANEXO III METAS FISCAIS   "]
["DEMONSTRATIVO DA AVALIAÇÃO DO CUMPRIMENTO DAS METAS FISCAIS   DO EXERCÍCIO ANTERIOR                            "]
["EXERCÍCIO DE 2016"]
[]
["AMF - Demonstrativo II (LRF, art. 4º, §2º, inciso I)",null,null,null,null,1]
["ESPECIFICAÇÃO","I-Metas Previstas em","% PIB","II-Metas Realizadas em","% PIB","Variação "]
[]
[null,"2014 (a)",null,"2014 (b)",null,"Valor (c) = (b-a)","%               (c/a) x 100"]
["Receita Total",{"$f":"Plano!E58","v":74864268.730000004},{"$f":"B11/(Parâmetros!C20)/1000000","v":2.2644695384810835E-4},{"$f":"Plano!E29","v":60909075.839999996},{"$f":"D11/(Parâmetros!C20)/1000000","v":1.8423574983968734E-4},{"$f":"D11-B11","v":-13955192.890000008},{"$f":"IF(B11=0,\"-\",(F11/B11))","v":-0.18640658790550385}]
["Receita Primárias (I)",{"$f":"B11-(Plano!E59+Plano!E60+Plano!E61+Plano!E62)","v":74859268.730000004},{"$f":"B12/(Parâmetros!C20)/1000000","v":2.2643183001415593E-4},{"$f":"D11-(Plano!E9+Plano!E21+Plano!E22+Plano!E23)","v":56086854.519999996},{"$f":"D12/(Parâmetros!C20)/1000000","v":1.6964965493460453E-4},-18772414.210000008,{"$f":"IF(B12=0,\"-\",(F12/B12))","v":-0.25076940408952891}]
["Despesa Total",{"$f":"Plano!E63","v":74864268.730000004},{"$f":"B13/(Parâmetros!C20)/1000000","v":2.2644695384810835E-4},{"$f":"Plano!E55","v":52651165.080000006},{"$f":"D13/(Parâmetros!C20)/1000000","v":1.5925749561408815E-4},-22213103.649999999,-0.29671168939233417]
["Despesa Primárias (II)",{"$f":"B13-(Plano!E64+Plano!E65+Plano!E66)","v":74864268.730000004},{"$f":"B14/(Parâmetros!C20)/1000000","v":2.2644695384810835E-4},{"$f":"D13-(Plano!E37+Plano!E48+Plano!E50)","v":52523598.250000007},{"$f":"D14/(Parâmetros!C20)/1000000","v":1.5887163570313731E-4},-22340670.479999997,-0.29841566422791393]
["Resultado Primário (I–II)",{"$f":"B12-B14","v":-5000},{"$f":"B15/(Parâmetros!C20)/1000000","v":-1.5123833952402271E-8},{"$f":"D12-D14","v":3563256.2699999884},{"$f":"D15/(Parâmetros!C20)/1000000","v":1.0778019231467219E-5},3568256.2699999884,-713.65125399999772]
["Resultado Nominal",-7147863.32606667,{"$f":"B16/(Parâmetros!C20)/1000000","v":-2.1620619611579624E-5},{"$f":"Dívida!C12","v":-14821119.459999999},{"$f":"D16/(Parâmetros!C20)/1000000","v":-4.4830429940351593E-5},-7673256.133933329,1.0735034770391689]
["Dívida Pública Consolidada ",7480937.8500000006,{"$f":"B17/(Parâmetros!C20)/1000000","v":2.2628092370328252E-5},{"$f":"Dívida!C7","v":619862.9},{"$f":"D17/(Parâmetros!C20)/1000000","v":1.8749407145709067E-6},-6861074.9500000002,-0.91714101728568698]
["Dívida Consolidada Líquida",-2643372.5166666699,{"$f":"B18/(Parâmetros!C20)/1000000","v":-7.9955854032820838E-6},{"$f":"Dívida!C9","v":-13256071},{"$f":"D18/(Parâmetros!C20)/1000000","v":-4.0096523333051025E-5},-10612698.483333331,4.0148327246422664]
[" FONTE:"]

{"sheet":"Comparação","index":8,"n_rows":30,"n_cols":12,"rows_kept":30,"cut":false,"hidden":false,"merged":[[19,1,19,11],[8,9,9,9],[20,7,21,7],[30,0,30,11],[20,5,21,5],[20,8,21,8],[20,9,21,9],[20,10,21,10],[20,11,21,11],[20,0,21,0],[20,1,21,1],[20,2,21,2],[20,3,21,3],[20,4,21,4],[20,6,21,6],[8,10,9,10],[8,11,9,11],[5,0,5,11],[8,5,9,5],[18,0,18,11],[7,1,7,11],[8,0,9,0],[8,1,9,1],[8,2,9,2],[6,0,6,1],[8,3,9,3],[8,4,9,4],[8,6,9,6],[8,7,9,7],[8,8,9,8],[0,0,0,11],[1,0,1,11],[2,0,2,11],[3,0,3,11],[4,0,4,11]]}
[{"$f":"Parâmetros!A7","v":"Município de Jaguarão"}]
["LEI ORÇAMENTÁRIA ANUAL"]
["ANEXO III METAS FISCAIS"]
["DEMONSTRATIVO DE METAS FISCAIS ATUAIS COMPARADAS COM AS FIXADAS  NOS TRÊS EXERCÍCIOS ANTERIORES"]
["EXERCÍCIO DE 2016"]
[]
["AMF – Demonstrativo III (LRF, art.4º, §2º, inciso II)",null,null,null,null,null,null,null,null,null,null,1]
["ESPECIFICAÇÃO","VALORES A PREÇOS CORRENTES"]
[null,2013,2014,"Variação %",2015,"Variação %",2016,"Variação %",2017,"Variação%",2018,"Variação %"]
[]
["     Receita Total ",{"$f":"Plano!D58","v":46770482.289999999},{"$f":"Plano!E58","v":74864268.730000004},{"$f":"IF(B11=0,\"0\",(C11/B11)-1)","v":0.60067343898240577},{"$f":"Plano!F58","v":80789571.829999998},{"$f":"IF(C11=0,\"0\",(E11/C11)-1)","v":7.9147278141054933E-2},{"$f":"IF(Metas!B12=0,\"0\",(Metas!B12))","v":89688908.620000005},{"$f":"IF(E11=0,\"0\",(G11/E11)-1)","v":0.11015452351605814},{"$f":"IF(Metas!E12=0,\"0\",(Metas!E12))","v":80105446.718478411},{"$f":"IF(G11=0,\"-\",(I11/G11)-1)","v":-0.10685225240197149},{"$f":"IF(Metas!H12=0,\"0\",(Metas!H12))","v":79488689.454555288},{"$f":"IF(I11=0,\"-\",(K11/I11)-1)","v":-7.699317452040999E-3}]
["Receitas Primárias (I)",{"$f":"B11-(Plano!D59+Plano!D60+Plano!D61+Plano!D62)","v":44913174.140000001},{"$f":"C11-(Plano!E59+Plano!E60+Plano!E61+Plano!E62)","v":74859268.730000004},0.66675524861935309,{"$f":"E11-(Plano!F59+Plano!F60+Plano!F61+Plano!F62)","v":75504081.359999999},8.6136645593706263E-3,{"$f":"IF(Metas!B13=0,\"0\",(Metas!B13))","v":74904335.460000008},{"$f":"IF(E12=0,\"0\",(G12/E12)-1)","v":-7.9432249117823428E-3},{"$f":"IF(Metas!E13=0,\"0\",(Metas!E13))","v":70122586.773678407},{"$f":"IF(G12=0,\"-\",(I12/G12)-1)","v":-6.3838076353739504E-2},{"$f":"IF(Metas!H13=0,\"0\",(Metas!H13))","v":74153857.913067281},{"$f":"IF(I12=0,\"-\",(K12/I12)-1)","v":5.7488910846940966E-2}]
["Despesa Total ",{"$f":"Plano!D63","v":46770482.289999999},{"$f":"Plano!E63","v":74864268.730000004},0.60067343898240577,{"$f":"Plano!F63","v":80789571.829999998},7.9147278141054933E-2,{"$f":"IF(Metas!B14=0,\"0\",(Metas!B14))","v":89688908.61999999},0.11015452351605792,{"$f":"IF(Metas!E14=0,\"0\",(Metas!E14))","v":80105446.718478411},-0.10685225240197127,{"$f":"IF(Metas!H14=0,\"0\",(Metas!H14))","v":79488689.454555303},-7.699317452040888E-3]
["Despesas Primárias (II)",{"$f":"B13-(Plano!D64+Plano!D65+Plano!D66)","v":46770482.289999999},{"$f":"C13-(Plano!E64+Plano!E65+Plano!E66)","v":74864268.730000004},0.60067343898240577,{"$f":"E13-(Plano!F64+Plano!F65+Plano!F66)","v":80541089.659999996},7.5828175794698582E-2,{"$f":"IF(Metas!B15=0,\"0\",(Metas!B15))","v":89324542.199999988},0.10905554639351012,{"$f":"IF(Metas!E15=0,\"0\",(Metas!E15))","v":79125702.778478414},-0.11417734891589038,{"$f":"IF(Metas!H15=0,\"0\",(Metas!H15))","v":78097573.594555303},-1.2993618354347869E-2]
["Resultado Primário (I – II)",{"$f":"B12-B14","v":-1857308.1499999985},{"$f":"C12-C14","v":-5000},-0.9973079319121062,{"$f":"E12-E14","v":-5037008.299999997},1006.4016599999994,{"$f":"IF(Metas!B16=0,\"0\",(Metas!B16))","v":-14420206.73999998},1.8628514946064292,{"$f":"IF(Metas!E16=0,\"0\",(Metas!E16))","v":-9003116.0048000067},-0.37565971368313267,{"$f":"IF(Metas!H16=0,\"0\",(Metas!H16))","v":-3943715.6814880222},-0.56196102778355495]
["Resultado Nominal  ",{"$f":"Dívida!B12","v":0},{"$f":"Dívida!C12","v":-14821119.459999999},"0",{"$f":"Dívida!D12","v":-3199986.8500000015},-0.78409276987232368,{"$f":"IF(Metas!B17=0,\"0\",(Metas!B17))","v":10568400.528066665},-4.3026387368018906,{"$f":"IF(Metas!E17=0,\"0\",(Metas!E17))","v":2348070.1337062214},-0.77782161761655277,{"$f":"IF(Metas!H17=0,\"0\",(Metas!H17))","v":-2361042.266930664},-2.0055245935963448]
["Dívida Pública Consolidada",{"$f":"Dívida!B7","v":1905151.12},{"$f":"' Avaliação'!D17","v":619862.9},{"$f":"IF(B17=0,\"-\",(C17/B17)-1)","v":-0.67463846122611004},{"$f":"Dívida!D7","v":0},{"$f":"IF(C17=0,\"-\",(E17/C17)-1)","v":-1},{"$f":"IF(Metas!B18=0,0,(Metas!B18))","v":9442464.5},{"$f":"IF(E17=0,\"-\",(G17/E17)-1)","v":"-"},{"$f":"IF(Metas!E18=0,0,(Metas!E18))","v":13412720.560000001},0.42046820086006154,{"$f":"IF(Metas!H18=0,0,(Metas!H18))","v":12021604.700000001},{"$f":"IF(I17=0,\"-\",(K17/I17)-1)","v":-0.10371615913244669}]
["Dívida Consolidada Líquida",-3275232.61,-3471746.65,6.0000025463840201E-2,2498226,-1.7195876461780413,{"$f":"IF(Metas!B19=0,\"0\",(Metas!B19))","v":-3930959.8833333347},-2.5735005092947292,{"$f":"IF(Metas!E19=0,\"0\",(Metas!E19))","v":-761741.6711111106},-0.80621993260710234,{"$f":"IF(Metas!H19=0,\"0\",(Metas!H19))","v":-2252366.9748148136},1.9568645910225837]
[]
["ESPECIFICAÇÃO","VALORES A PREÇOS CONSTANTES"]
[null,2013,2014,"Variação %",2015,"Variação %",2016,"Variação %",2017,"Variação %",2018,"Variação %"]
[]
["     Receita Total ",{"$f":"B11*((1+Parâmetros!C11)*(1+Parâmetros!D11))","v":54366127.410921007},{"$f":"C11*(1+Parâmetros!D11)","v":81834132.148763001},{"$f":"IF(B23=0,\"-\",(C23/B23)-1)","v":0.50524115006808912},{"$f":"E11","v":80789571.829999998},{"$f":"IF(C23=0,\"-\",(E23/C23)-1)","v":-1.2764359947804449E-2},{"$f":"Metas!C12","v":81291496.98178193},{"$f":"IF(E23=0,\"-\",(G23/E23)-1)","v":6.2127467742754128E-3},{"$f":"Metas!F12","v":68495582.479387239},{"$f":"IF(G23=0,\"-\",(I23/G23)-1)","v":-0.15740778528487864},{"$f":"Metas!I12","v":64120955.892279215},{"$f":"IF(I23=0,\"-\",(K23/I23)-1)","v":-6.3867280615133137E-2}]
["Receitas Primárias (I)",{"$f":"B12*((1+Parâmetros!C11)*(1+Parâmetros!D11))","v":52207187.699798308},{"$f":"C12*(1+Parâmetros!D11)","v":81828666.648763001},{"$f":"IF(B24=0,\"-\",(C24/B24)-1)","v":0.567383156497417},{"$f":"E12","v":75504081.359999999},{"$f":"IF(C24=0,\"-\",(E24/C24)-1)","v":-7.7290582234589178E-2},{"$f":"Metas!C13","v":67891176.88751927},{"$f":"IF(E24=0,\"-\",(G24/E24)-1)","v":-0.10082772130135254},{"$f":"Metas!F13","v":59959561.088328846},{"$f":"IF(G24=0,\"-\",(I24/G24)-1)","v":-0.11682837391862222},{"$f":"Metas!I13","v":59817519.764299512},{"$f":"IF(I24=0,\"-\",(K24/I24)-1)","v":-2.3689520311879209E-3}]
["Despesa Total ",{"$f":"B13*((1+Parâmetros!C11)*(1+Parâmetros!D11))","v":54366127.410921007},{"$f":"C13*(1+Parâmetros!D11)","v":81834132.148763001},0.50524115006808912,{"$f":"E13","v":80789571.829999998},{"$f":"IF(C25=0,\"-\",(E25/C25)-1)","v":-1.2764359947804449E-2},{"$f":"Metas!C14","v":81291496.981781915},6.2127467742754128E-3,{"$f":"Metas!F14","v":68495582.479387239},-0.15740778528487853,{"$f":"Metas!I14","v":64120955.89227923},-6.3867280615132915E-2]
["Despesas Primárias (II)",{"$f":"B14*((1+Parâmetros!C11)*(1+Parâmetros!D11))","v":54366127.410921007},{"$f":"C14*(1+Parâmetros!D11)","v":81834132.148763001},0.50524115006808912,{"$f":"E14","v":80541089.659999996},-1.5800772303816157E-2,{"$f":"Metas!C15","v":80961245.53611891},5.2166649084657291E-3,{"$f":"Metas!F15","v":67657835.052713573},-0.16431825369423625,{"$f":"Metas!I15","v":62998787.703167155},-6.8861904107875516E-2]
["Resultado Primário (I – II)",{"$f":"B24-B26","v":-2158939.7111226991},{"$f":"C24-C26","v":-5465.5},-0.99746843324441059,{"$f":"E24-E26","v":-5037008.299999997},920.60064038056851,{"$f":"Metas!C16","v":-13070068.64859964},1.5948078442911533,{"$f":"Metas!F16","v":-7698273.9643847272},-0.41099972988974776,{"$f":"Metas!I16","v":-3181267.9388676435},-0.58675568658825961]
["Resultado Nominal  ",{"$f":"B16*((1+Parâmetros!C11)*(1+Parâmetros!D11))","v":0},{"$f":"C16*(1+Parâmetros!D11)","v":-16200965.681725997},"-",{"$f":"E16","v":-3199986.8500000015},-0.80248172159209918,{"$f":"Metas!C17","v":9578900.1432671677},-3.9934185958505308,{"$f":"Metas!F17","v":2007758.998909123},-0.79039775246844601,{"$f":"Metas!I17","v":-1904576.4636014155},-1.9486081071663632]
["Dívida Pública Consolidada",{"$f":"B17*((1+Parâmetros!C11)*(1+Parâmetros!D11))","v":2214552.5009718444},{"$f":"C17*(1+Parâmetros!D11)","v":677572.13598999998},-0.69403654431644712,{"$f":"E17","v":0},-1,{"$f":"Metas!C18","v":8558383.4859059192},"-",{"$f":"Metas!F18","v":11468784.521221926},0.34006434043402023,{"$f":"Metas!I18","v":9697439.8497765381},-0.15444920672872342]
["Dívida Consolidada Líquida",{"$f":"B18*((1+Parâmetros!C11)*(1+Parâmetros!D11))","v":-3807138.7049548286},{"$f":"C18*(1+Parâmetros!D11)","v":-3794966.263115},-3.1972677601650457E-3,{"$f":"E18","v":2498226},-1.6582999233172091,{"$f":"Metas!C19","v":-3562911.1604580213},-2.426176479012716,{"$f":"IF(Metas!F19=0,\"0\",(Metas!F19))","v":-651340.72149854945},-0.81718861566707779,{"$f":"IF(Metas!I19=0,\"0\",(Metas!I19))","v":-1816911.618952984},1.7894948971911169]

{"sheet":" Patrimônio","index":9,"n_rows":26,"n_cols":7,"rows_kept":26,"cut":false,"hidden":false,"merged":[[20,0,20,6],[0,0,0,6],[1,0,1,6],[12,0,12,6],[13,0,13,6],[6,0,6,1],[19,0,19,6],[2,0,2,6],[3,0,3,6],[4,0,4,6],[5,0,5,6]]}
[{"$f":"Parâmetros!A7","v":"Município de Jaguarão"}]
["LEI DE DIRETRIZES ORÇAMENTÁRIAS"]
["ANEXO III - METAS FISCAIS "]
["DEMONSTRATIVO DA EVOLUÇÃO DO PATRIMÔNIO LÍQUIDO"]
[" EXERCÍCIO DE 2016"]
[]
["AMF - Demonstrativo IV (LRF, art.4º, §2º, inciso III)",null,null,null,null,null,1]
["PATRIMÔNIO LÍQUIDO",2012,"%",2013,"%",2014,"%"]
["Patrimônio/Capital",6965898.1299999999,{"$f":"IF(B12=0,\"-\",(B9/B12))","v":1},17730964.550000001,{"$f":"IF(D12=0,\"-\",(D9/D12))","v":1},2929105.91,{"$f":"IF(F12=0,\"-\",(F9/F12))","v":9.1001992509009824E-2}]
["Reservas",null,{"$f":"IF(B12=0,\"-\",(B10/B12))","v":0},null,{"$f":"IF(D12=0,\"-\",(D10/D12))","v":0},944461.6,{"$f":"IF(F12=0,\"-\",(F10/F12))","v":2.9342703913443482E-2}]
["Resultado Acumulado",null,{"$f":"IF(B12=0,\"-\",(B11/B12))","v":0},null,{"$f":"IF(D12=0,\"-\",(D11/D12))","v":0},28313704.760000002,{"$f":"IF(F12=0,\"-\",(F11/F12))","v":0.87965530357754662}]
["TOTAL",{"$f":"SUM(B9:B11)","v":6965898.1299999999},{"$f":"IF(B12=0,\"-\",(B12/B12))","v":1},{"$f":"SUM(D9:D11)","v":17730964.550000001},{"$f":"IF(D12=0,\"-\",(D12/D12))","v":1},{"$f":"SUM(F9:F11)","v":32187272.270000003},{"$f":"IF(F12=0,\"-\",(F12/F12))","v":1}]
[]
["REGIME PREVIDENCIÁRIO"]
["PATRIMÔNIO LÍQUIDO",2012,"%",2013,"%",2014,"%"]
["Patrimônio/Capital",23117624.23,{"$f":"IF(B19=0,\"-\",(B16/B19))","v":1},26281006.309999999,{"$f":"IF(D19=0,\"-\",(D16/D19))","v":1},23203395.710000001,{"$f":"IF(F19=0,\"-\",(F16/F19))","v":0.46640901985417238}]
["Reservas",null,{"$f":"IF(B19=0,\"-\",(B17/B19))","v":0},null,{"$f":"IF(D19=0,\"-\",(D17/D19))","v":0},0,{"$f":"IF(F19=0,\"-\",(F17/F19))","v":0}]
["Resultado Acumulado",null,{"$f":"IF(B19=0,\"-\",(B18/B19))","v":0},null,{"$f":"IF(D19=0,\"-\",(D18/D19))","v":0},26545632.98,{"$f":"IF(F19=0,\"-\",(F18/F19))","v":0.53359098014582773}]
["TOTAL",{"$f":"SUM(B16:B18)","v":23117624.23},{"$f":"IF(B19=0,\"-\",(B19/B19))","v":1},{"$f":"SUM(D16:D18)","v":26281006.309999999},{"$f":"IF(D19=0,\"-\",(D19/D19))","v":1},{"$f":"SUM(F16:F18)","v":49749028.689999998},{"$f":"IF(F19=0,\"-\",(F19/F19))","v":1}]
[]
["CONSOLIDAÇÃO GERAL"]
["PATRIMÔNIO LÍQUIDO",2012,"%",2013,"%",2014,"%"]
["Patrimônio/Capital",{"$f":"B9+B16","v":30083522.359999999},{"$f":"IF(B26=0,\"-\",(B23/B26))","v":1},{"$f":"D9+D16","v":44011970.859999999},{"$f":"IF(D26=0,\"-\",(D23/D26))","v":1},{"$f":"F9+F16","v":26132501.620000001},{"$f":"IF(F26=0,\"-\",(F23/F26))","v":0.31893679985330886}]
["Reservas",{"$f":"B10+B17","v":0},{"$f":"IF(B26=0,\"-\",(B24/B26))","v":0},{"$f":"D10+D17","v":0},{"$f":"IF(D26=0,\"-\",(D24/D26))","v":0},{"$f":"F10+F17","v":944461.6},{"$f":"IF(F26=0,\"-\",(F24/F26))","v":1.1526778594277413E-2}]
["Resultado Acumulado",{"$f":"B11+B18","v":0},{"$f":"IF(B26=0,\"-\",(B25/B26))","v":0},{"$f":"D11+D18","v":0},{"$f":"IF(D26=0,\"-\",(D25/D26))","v":0},{"$f":"F11+F18","v":54859337.740000002},{"$f":"IF(F26=0,\"-\",(F25/F26))","v":0.66953642155241366}]
["TOTAL",{"$f":"SUM(B23:B25)","v":30083522.359999999},{"$f":"IF(B26=0,\"-\",(B26/B26))","v":1},{"$f":"SUM(D23:D25)","v":44011970.859999999},{"$f":"IF(D26=0,\"-\",(D26/D26))","v":1},{"$f":"SUM(F23:F25)","v":81936300.960000008},{"$f":"IF(F26=0,\"-\",(F26/F26))","v":1}]

{"sheet":" Alienação","index":10,"n_rows":30,"n_cols":4,"rows_kept":30,"cut":false,"hidden":false,"merged":[[0,0,0,3],[1,0,1,3],[2,0,2,3],[3,0,3,3],[29,0,29,3],[16,0,17,0],[16,1,17,1],[16,2,17,2],[16,3,17,3],[4,0,4,3],[5,0,5,3],[15,0,15,3],[27,0,28,0]]}
[{"$f":"Parâmetros!A7","v":"Município de Jaguarão"}]
["LEI DE DIRETRIZES ORÇAMENTÁRIAS"]
["ANEXO III - METAS FISCAIS"]
["DEMONSTRATIVO DA ORIGEM E APLICAÇÃO DOS RECURSOS OBTIDOS COM A ALIENAÇÃO DE ATIVOS"]
["EXERCÍCIO DE 2016"]
[]
["AMF - Demonstrativo V (LRF, art.4º, §2º, inciso III)",null,null,1]
["RECEITAS REALIZADAS",2012,2013,2014]
["SALDOS DE EXERCÍCIOS ANTERIORES A 2012"]
["RECEITAS DE CAPITAL",{"$f":"B11","v":6111.94},{"$f":"C11","v":1279.47},{"$f":"D11","v":152720}]
["    ALIENAÇÃO DE ATIVOS ",{"$f":"B12+B13","v":6111.94},{"$f":"C12+C13","v":1279.47},{"$f":"D12+D13","v":152720}]
["        Alienação de Bens Móveis"]
["        Alienação de Bens Imóveis",{"$f":"Plano!C22","v":6111.94},{"$f":"Plano!D22","v":1279.47},{"$f":"Plano!E22","v":152720}]
["Rendimento de Aplicações Financeira de Alienaç de Bens"]
["TOTAL ",{"$f":"B12+B13+B14","v":6111.94},{"$f":"C12+C13+C14","v":1279.47},{"$f":"D9+D12+D13+D14","v":152720}]
[]
["DESPESAS  EXECUTADAS",2012,2013,2014]
[]
["APLICAÇÃO DOS RECURSOS DA ALIENAÇÃO DE ATIVOS"]
["   DESPESAS DE CAPITAL",{"$f":"B21+B22+B23","v":0},{"$f":"C21+C22+C23","v":0},{"$f":"D21+D22+D23","v":152720}]
["         Investimentos",0,0,0]
["         Inversões Financeiras",null,null,152720]
["        Amortização da Dívida"]
["    DESPESAS CORRENTES DOS REGIMES DE PREVID.",{"$f":"B25+B26","v":0},{"$f":"C25+C26","v":0},{"$f":"D25+D26","v":0}]
["        Regime Geral de Previdência Social"]
["        Regime Próprio dos Servidores Públicos  "]
["TOTAL ",{"$f":"B20+B24","v":0},{"$f":"C20+C24","v":0},{"$f":"D20+D24","v":152720}]
["SALDO FINANCEIRO "]
[null,{"$f":"C29+B15-B27","v":7391.41},{"$f":"D29+C15-C27","v":1279.47},{"$f":"D15-D27","v":0}]
["FONTE:"]

{"sheet":"Renúncia","index":11,"n_rows":25,"n_cols":7,"rows_kept":25,"cut":false,"hidden":false,"merged":[[17,0,17,2],[4,0,4,5],[5,0,5,5],[7,0,9,0],[7,1,9,1],[7,2,9,2],[7,3,8,5],[10,6,11,6],[0,0,0,5],[1,0,1,5],[2,0,2,5],[3,0,3,5],[7,6,9,6]]}
[{"$f":"Parâmetros!A7","v":"Município de Jaguarão"}]
["LEI ORÇAMENTÁRIA ANUAL"]
["ANEXO VI - METAS FISCAIS"]
["DEMONSTRATIVO DA ESTIMATIVA E COMPENSAÇÃO DA RENÚNCIA DE RECEITA"]
["EXERCÍCIO DE 2016"]
[]
["AMF - Demonstrativo VIII (LRF, art. 4°, § 2°, inciso V)",null,null,null,null,null,1]
["TRIBUTO","MODALIDADE","SETORES/ PROGRAMAS/ BENEFICIÁRIO","RENÚNCIA DE RECEITA PREVISTA",null,null,"COMPENSAÇÃO"]
[]
[null,null,null,2016,2017,2018]
["IPTU","Desconto",null,269264.38,{"$f":"D11*(1+B24)","v":297079.39045399998},{"$f":"E11*(1+B25)","v":314904.15388124},"Vide Obsevação"]
[null,null,null,null,{"$f":"D12*(1+B24)","v":0},{"$f":"E12*(1+B25)","v":0}]
[null,null,null,null,{"$f":"D13*(1+B24)","v":0},{"$f":"E13*(1+B25)","v":0},"abaixo"]
[null,null,null,null,{"$f":"D14*(1+B24)","v":0},{"$f":"E14*(1+B25)","v":0}]
[null,null,null,null,{"$f":"D15*(1+B24)","v":0},{"$f":"E15*(1+B25)","v":0}]
[null,null,null,null,{"$f":"D16*(1+B24)","v":0},{"$f":"E16*(1+B25)","v":0}]
[null,null,null,null,{"$f":"D17*(1+B24)","v":0},{"$f":"E17*(1+B25)","v":0}]
["TOTAL",null,null,{"$f":"SUM(D11:D17)","v":269264.38},{"$f":"SUM(E11:E17)","v":297079.39045399998},{"$f":"SUM(F11:F17)","v":314904.15388124},"          -"]
["FONTE:"]
["Obs:  1 -   Os valores da renúncia para 2016 foram previstos de acordo com informações do setor tributário"]
["da Prefeitura Municipal"]
["2 - Os valores da renúncia projetados para 2017 e 2018, foram calculados a partir dos valores de 2016, apli"]
["cando-se, sobre eles, as projeções de inflação para os referidos exercícios a saber:"]
["Inflação para 2016:",0.1033]
["Inflação para 2017:",{"$f":"Parâmetros!G11","v":0.06}]

{"sheet":"DOCC","index":12,"n_rows":23,"n_cols":2,"rows_kept":23,"cut":false,"hidden":false,"merged":[[0,0,0,1],[1,0,1,1],[22,0,22,1],[2,0,2,1],[3,0,3,1],[4,0,4,1],[5,0,5,1]]}
[{"$f":"Parâmetros!A7","v":"Município de Jaguarão"}]
["LEI DE ORÇAMENTÁRIA ANUAL"]
["ANEXO VII - METAS FISCAIS"]
["DEMONSTRATIVO DA MARGEM DE EXPANSÃO DAS DESPESAS OBRIGATÓRIAS DE CARÁTER CONTINUADO  "]
["EXERCÍCIO DE 2016"]
[]
["AMF - Demonstrativo IX (LRF, art. 4°, § 2°, inciso V)",1]
["EVENTO","Valor Previsto 2016"]
["Aumento Permanente da Receita  ",{"$f":"(B10+B11)","v":1020358.9957124982}]
["   Decorrente de Receitas Tributárias",{"$f":"((Projeções!F10)*(1+Parâmetros!E12)*(1+Parâmetros!E15))-Projeções!F10","v":840595.86596249975}]
["   Decorrente de Transferências Correntes",{"$f":"((Projeções!F22)*(1+Parâmetros!E12)*(1+Parâmetros!E16))-Projeções!F22","v":179763.12974999845}]
["(-) Transferências Constitucionais",{"$f":"((Projeções!F32)*(1+Parâmetros!E11))-Projeções!F32","v":232991.93519200012}]
["(-)  Transferências ao FUNDEB",{"$f":"((Projeções!F33)*(1+Parâmetros!E12))-Projeções!F33","v":147029.08499999996}]
["Saldo Final do Aumento Permanente de Receita  (I)",{"$f":"B9+B13","v":1167388.0807124982}]
["Redução Permanente de Despesa (II)",0]
["Margem Bruta  (III) = (I+II)",{"$f":"B14+B15","v":1167388.0807124982}]
["Saldo Utilizado da Margem Bruta (IV)",0]
["   Novas DOCC",{"$f":"B19+B20","v":117776.46208999678}]
["      Relativas a  Pessoal e Encargos Sociais",{"$f":"((Projeções!F41)*(1+Parâmetros!E13)*(1+Parâmetros!E17))-Projeções!F41","v":0}]
["      Relativas a  Outras Despesas Correntes",{"$f":"((Projeções!F47)*(1+Parâmetros!E14))-Projeções!F47","v":117776.46208999678}]
["   Novas DOCC geradas por PPP",0]
["Margem Líquida de Expansão de DOCC (V) = (III-IV)",{"$f":"IF(B16-B17-B18<0,\"SEM MARGEM\",B16-B17-B18)","v":1049611.6186225014}]
["FONTE:"]

{"sheet":"Anexo Riscos","index":13,"n_rows":25,"n_cols":4,"rows_kept":25,"cut":false,"hidden":false,"merged":[[6,2,6,3],[6,0,6,1],[17,0,17,1],[17,2,17,3],[0,0,0,3],[1,0,1,3],[2,0,2,3],[3,0,3,3],[16,0,16,1],[16,2,16,3],[7,0,7,1],[7,2,7,3],[4,0,4,3],[5,0,5,3]]}
[{"$f":"Parâmetros!A7","v":"Município de Jaguarão"}]
["LEI DE DIRETRIZES ORÇAMENTÁRIAS"]
["ANEXO IV RISCOS FISCAIS"]
["DEMONSTRATIVO DE RISCOS FISCAIS E PROVIDÊNCIAS"]
["EXERCÍCIO DE 2016"]
[]
["ARF (LRF, art 4o, § 3o)",null,1]
["PASSIVOS CONTINGENTES",null,"PROVIDÊNCIAS"]
["Descrição","Valor","Descrição","Valor"]
["Demandas Judiciais",150000,"CONTINGENCIAMENTO ORÇAMENTÁRIO",270000]
["Dívidas em Processo de Reconhecimento",0,null,0]
["Avais e Garantias Concedidas",0,null,0]
["Assunção de Passivos",0,null,0]
["Assistências Diversas",120000,null,0]
["Outros Passivos Contingentes",0,null,0]
["SUBTOTAL",{"$f":"SUM(B10:B15)","v":270000},"SUBTOTAL",{"$f":"SUM(D10:D15)","v":270000}]
[]
["DEMAIS RISCOS FISCAIS PASSIVOS",null,"PROVIDÊNCIAS"]
["Descrição","Valor","Descrição","Valor"]
["Frustração de Arrecadação",270000,"CONTINGENCIAMENTO ORÇAMENTÁRIO",1247000]
["Restituição de Tributos a Maior",0,null,0]
["Discrepância de Projeções:",1000000,null,0]
["Outros Riscos Fiscais",0,null,0]
["SUBTOTAL",{"$f":"SUM(B20:B23)","v":1270000},"SUBTOTAL",{"$f":"SUM(D20:D23)","v":1247000}]
["TOTAL",{"$f":"B16+B24","v":1540000},"TOTAL",{"$f":"D16+D24","v":1517000}]